BEGIN:VCALENDAR
VERSION:2.0
PRODID:-//spbstu.ru//ical//RU
NAME:Расписание группы 3834504/30102
X-WR-CALNAME:Расписание группы 3834504/30102
TIMEZONE-ID:Europe/Moscow
X-WR-TIMEZONE:Europe/Moscow
BEGIN:VEVENT
UID:jbdc@192.168.245.71:3006
SEQUENCE:0
DTSTAMP:20260421T141656Z
DTSTART:20260511T110000Z
DTEND:20260511T124000Z
SUMMARY:Практикум по культуре речевого общения второго иностранного языка 
 (китайский язык)
LOCATION:9 к. 129
END:VEVENT
BEGIN:VEVENT
UID:ibn5@192.168.245.71:3006
SEQUENCE:0
DTSTAMP:20260421T141656Z
DTSTART:20260511T110000Z
DTEND:20260511T124000Z
SUMMARY:Практикум по культуре речевого общения второго иностранного языка 
 (немецкий язык)
LOCATION:9 к. 330
END:VEVENT
BEGIN:VEVENT
UID:lj1t@192.168.245.71:3006
SEQUENCE:0
DTSTAMP:20260421T141656Z
DTSTART:20260511T130000Z
DTEND:20260511T144000Z
SUMMARY:Математическая лингвистика
LOCATION:9 к. 212
END:VEVENT
BEGIN:VEVENT
UID:t10o@192.168.245.71:3006
SEQUENCE:0
DTSTAMP:20260421T141656Z
DTSTART:20260512T070000Z
DTEND:20260512T084000Z
SUMMARY:Практикум по культуре речевого общения второго иностранного языка 
 (немецкий язык)
LOCATION:9 к. 241
END:VEVENT
BEGIN:VEVENT
UID:c1e8@192.168.245.71:3006
SEQUENCE:0
DTSTAMP:20260421T141656Z
DTSTART:20260512T090000Z
DTEND:20260512T104000Z
SUMMARY:Практикум по культуре речевого общения второго иностранного языка 
 (испанский язык)
LOCATION:9 к. 217
END:VEVENT
BEGIN:VEVENT
UID:ndth@192.168.245.71:3006
SEQUENCE:0
DTSTAMP:20260421T141656Z
DTSTART:20260512T110000Z
DTEND:20260512T124000Z
SUMMARY:Практикум по культуре речевого общения второго иностранного языка 
 (испанский язык)
LOCATION:9 к. 217
END:VEVENT
BEGIN:VEVENT
UID:cg69@192.168.245.71:3006
SEQUENCE:0
DTSTAMP:20260421T141656Z
DTSTART:20260513T070000Z
DTEND:20260513T084000Z
SUMMARY:Практикум профессионального иноязычного дискурса
LOCATION:9 к. 313
END:VEVENT
BEGIN:VEVENT
UID:5z8z@192.168.245.71:3006
SEQUENCE:0
DTSTAMP:20260421T141656Z
DTSTART:20260513T090000Z
DTEND:20260513T104000Z
SUMMARY:Практикум профессионального иноязычного дискурса
LOCATION:9 к. 313
END:VEVENT
BEGIN:VEVENT
UID:tcjq@192.168.245.71:3006
SEQUENCE:0
DTSTAMP:20260421T141656Z
DTSTART:20260513T110000Z
DTEND:20260513T124000Z
SUMMARY:Практикум по культуре речевого общения второго иностранного языка 
 (китайский язык)
LOCATION:9 к. 129
END:VEVENT
BEGIN:VEVENT
UID:rnop@192.168.245.71:3006
SEQUENCE:0
DTSTAMP:20260421T141656Z
DTSTART:20260515T070000Z
DTEND:20260515T084000Z
SUMMARY:Машинное обучение и анализ данных
LOCATION:9 к. 432
END:VEVENT
BEGIN:VEVENT
UID:q9dc@192.168.245.71:3006
SEQUENCE:0
DTSTAMP:20260421T141656Z
DTSTART:20260515T090000Z
DTEND:20260515T104000Z
SUMMARY:Системы искусственного интеллекта
LOCATION:9 к. 432
END:VEVENT
END:VCALENDAR