BEGIN:VCALENDAR
VERSION:2.0
PRODID:-//spbstu.ru//ical//RU
NAME:Расписание группы 3834504/30102
X-WR-CALNAME:Расписание группы 3834504/30102
TIMEZONE-ID:Europe/Moscow
X-WR-TIMEZONE:Europe/Moscow
BEGIN:VEVENT
UID:i5u8@192.168.245.71:3006
SEQUENCE:0
DTSTAMP:20260421T193410Z
DTSTART:20260525T090000Z
DTEND:20260525T104000Z
SUMMARY:Математическая лингвистика
LOCATION:9 к. 221
END:VEVENT
BEGIN:VEVENT
UID:yqhj@192.168.245.71:3006
SEQUENCE:0
DTSTAMP:20260421T193410Z
DTSTART:20260527T100000Z
DTEND:20260527T120000Z
SUMMARY:Теоретическая грамматика (английский язык)
LOCATION:9 к. 319
END:VEVENT
BEGIN:VEVENT
UID:adgd@192.168.245.71:3006
SEQUENCE:0
DTSTAMP:20260421T193410Z
DTSTART:20260529T100000Z
DTEND:20260529T120000Z
SUMMARY:Системы искусственного интеллекта
LOCATION:9 к. 210
END:VEVENT
END:VCALENDAR