BEGIN:VCALENDAR
VERSION:2.0
PRODID:-//spbstu.ru//ical//RU
NAME:Расписание группы 3834001/20101
X-WR-CALNAME:Расписание группы 3834001/20101
TIMEZONE-ID:Europe/Moscow
X-WR-TIMEZONE:Europe/Moscow
BEGIN:VEVENT
UID:kyfv@192.168.245.71:3006
SEQUENCE:0
DTSTAMP:20260424T175505Z
DTSTART:20251013T050000Z
DTEND:20251013T064000Z
SUMMARY:Гражданский и арбитражный процессы
LOCATION:ГЗ 101
END:VEVENT
BEGIN:VEVENT
UID:afcx@192.168.245.71:3006
SEQUENCE:0
DTSTAMP:20260424T175505Z
DTSTART:20251013T070000Z
DTEND:20251013T084000Z
SUMMARY:Жилищное право
LOCATION:9 к. 521
END:VEVENT
BEGIN:VEVENT
UID:in5i@192.168.245.71:3006
SEQUENCE:0
DTSTAMP:20260424T175505Z
DTSTART:20251013T090000Z
DTEND:20251013T104000Z
SUMMARY:Гражданский и арбитражный процессы
LOCATION:ГЗ 123
END:VEVENT
BEGIN:VEVENT
UID:syu8@192.168.245.71:3006
SEQUENCE:0
DTSTAMP:20260424T175505Z
DTSTART:20251013T110000Z
DTEND:20251013T124000Z
SUMMARY:Теоретико-правовые основы организации расследования преступлений
LOCATION:9 к. 114
END:VEVENT
BEGIN:VEVENT
UID:n3ak@192.168.245.71:3006
SEQUENCE:0
DTSTAMP:20260424T175505Z
DTSTART:20251014T090000Z
DTEND:20251014T104000Z
SUMMARY:Предпринимательское право
LOCATION:ГЗ 101
END:VEVENT
BEGIN:VEVENT
UID:v3in@192.168.245.71:3006
SEQUENCE:0
DTSTAMP:20260424T175505Z
DTSTART:20251014T110000Z
DTEND:20251014T124000Z
SUMMARY:Предпринимательское право
LOCATION:9 к. 515
END:VEVENT
BEGIN:VEVENT
UID:oc1n@192.168.245.71:3006
SEQUENCE:0
DTSTAMP:20260424T175505Z
DTSTART:20251014T130000Z
DTEND:20251014T144000Z
SUMMARY:Судебная власть\, прокуратура и правоохранительные органы
LOCATION:9 к. 539
END:VEVENT
BEGIN:VEVENT
UID:uwv1@192.168.245.71:3006
SEQUENCE:0
DTSTAMP:20260424T175505Z
DTSTART:20251015T090000Z
DTEND:20251015T104000Z
SUMMARY:Жилищное право
LOCATION:ГЗ 283
END:VEVENT
BEGIN:VEVENT
UID:00zx@192.168.245.71:3006
SEQUENCE:0
DTSTAMP:20260424T175505Z
DTSTART:20251015T110000Z
DTEND:20251015T124000Z
SUMMARY:Право интеллектуальной собственности
LOCATION:9 к. 417
END:VEVENT
BEGIN:VEVENT
UID:6i34@192.168.245.71:3006
SEQUENCE:0
DTSTAMP:20260424T175505Z
DTSTART:20251015T130000Z
DTEND:20251015T144000Z
SUMMARY:Правовые основы информационной безопасности Российской Федерации
LOCATION:9 к. 435
END:VEVENT
BEGIN:VEVENT
UID:frut@192.168.245.71:3006
SEQUENCE:0
DTSTAMP:20260424T175505Z
DTSTART:20251017T050000Z
DTEND:20251017T064000Z
SUMMARY:Адвокатура и нотариат
LOCATION:ГЗ 101
END:VEVENT
END:VCALENDAR