BEGIN:VCALENDAR
VERSION:2.0
PRODID:-//spbstu.ru//ical//RU
NAME:Расписание группы 3834001/20101
X-WR-CALNAME:Расписание группы 3834001/20101
TIMEZONE-ID:Europe/Moscow
X-WR-TIMEZONE:Europe/Moscow
BEGIN:VEVENT
UID:mc3z@192.168.245.71:3006
SEQUENCE:0
DTSTAMP:20260422T134858Z
DTSTART:20260216T070000Z
DTEND:20260216T084000Z
SUMMARY:Проблемы теории права
LOCATION:ГЗ 101
END:VEVENT
BEGIN:VEVENT
UID:sbwr@192.168.245.71:3006
SEQUENCE:0
DTSTAMP:20260422T134858Z
DTSTART:20260216T090000Z
DTEND:20260216T104000Z
SUMMARY:Таможенное и транспортное право
LOCATION:9 к. 515
END:VEVENT
BEGIN:VEVENT
UID:8fqe@192.168.245.71:3006
SEQUENCE:0
DTSTAMP:20260422T134858Z
DTSTART:20260216T110000Z
DTEND:20260216T124000Z
SUMMARY:Юридическое управление
LOCATION:9 к. 518
END:VEVENT
BEGIN:VEVENT
UID:oas7@192.168.245.71:3006
SEQUENCE:0
DTSTAMP:20260422T134858Z
DTSTART:20260216T130000Z
DTEND:20260216T134000Z
SUMMARY:Предпринимательское право
LOCATION:9 к. 123
END:VEVENT
BEGIN:VEVENT
UID:u6n5@192.168.245.71:3006
SEQUENCE:0
DTSTAMP:20260422T134858Z
DTSTART:20260217T070000Z
DTEND:20260217T084000Z
SUMMARY:Проблемы теории права
LOCATION:9 к. 216
END:VEVENT
BEGIN:VEVENT
UID:a2z6@192.168.245.71:3006
SEQUENCE:0
DTSTAMP:20260422T134858Z
DTSTART:20260217T090000Z
DTEND:20260217T104000Z
SUMMARY:Таможенное и транспортное право
LOCATION:ГЗ 101
END:VEVENT
BEGIN:VEVENT
UID:rlr2@192.168.245.71:3006
SEQUENCE:0
DTSTAMP:20260422T134858Z
DTSTART:20260217T110000Z
DTEND:20260217T124000Z
SUMMARY:Уголовно-исполнительное право
LOCATION:9 к. 219
END:VEVENT
BEGIN:VEVENT
UID:974x@192.168.245.71:3006
SEQUENCE:0
DTSTAMP:20260422T134858Z
DTSTART:20260217T130000Z
DTEND:20260217T144000Z
SUMMARY:Судебная власть\, прокуратура и правоохранительные органы
LOCATION:9 к. 219
END:VEVENT
BEGIN:VEVENT
UID:u94w@192.168.245.71:3006
SEQUENCE:0
DTSTAMP:20260422T134858Z
DTSTART:20260218T150000Z
DTEND:20260218T164000Z
SUMMARY:Право интеллектуальной собственности
LOCATION:9 к. 523
END:VEVENT
BEGIN:VEVENT
UID:am77@192.168.245.71:3006
SEQUENCE:0
DTSTAMP:20260422T134858Z
DTSTART:20260219T090000Z
DTEND:20260219T104000Z
SUMMARY:Юридическое управление
LOCATION:ГЗ 101
END:VEVENT
BEGIN:VEVENT
UID:29jf@192.168.245.71:3006
SEQUENCE:0
DTSTAMP:20260422T134858Z
DTSTART:20260220T070000Z
DTEND:20260220T074000Z
SUMMARY:Адвокатура и нотариат
LOCATION:ГЗ 281
END:VEVENT
BEGIN:VEVENT
UID:o86q@192.168.245.71:3006
SEQUENCE:0
DTSTAMP:20260422T134858Z
DTSTART:20260220T070000Z
DTEND:20260220T073000Z
SUMMARY:Гражданский и арбитражный процессы
LOCATION:ГЗ 281
END:VEVENT
BEGIN:VEVENT
UID:9j36@192.168.245.71:3006
SEQUENCE:0
DTSTAMP:20260422T134858Z
DTSTART:20260220T090000Z
DTEND:20260220T104000Z
SUMMARY:Правовые системы современных стран (на английском языке)
LOCATION:9 к. 515
END:VEVENT
BEGIN:VEVENT
UID:i3ge@192.168.245.71:3006
SEQUENCE:0
DTSTAMP:20260422T134858Z
DTSTART:20260220T130000Z
DTEND:20260220T144000Z
SUMMARY:Теоретико-правовые основы организации расследования преступлений
LOCATION:9 к. 114
END:VEVENT
END:VCALENDAR