BEGIN:VCALENDAR
VERSION:2.0
PRODID:-//spbstu.ru//ical//RU
NAME:Расписание группы 3834101/20302
X-WR-CALNAME:Расписание группы 3834101/20302
TIMEZONE-ID:Europe/Moscow
X-WR-TIMEZONE:Europe/Moscow
BEGIN:VEVENT
UID:gd2m@192.168.245.71:3006
SEQUENCE:0
DTSTAMP:20260425T194140Z
DTSTART:20251006T070000Z
DTEND:20251006T084000Z
SUMMARY:Испанский язык: Профессионально-ориентированный курс
LOCATION:16 к. 113
END:VEVENT
BEGIN:VEVENT
UID:tj1d@192.168.245.71:3006
SEQUENCE:0
DTSTAMP:20260425T194140Z
DTSTART:20251006T090000Z
DTEND:20251006T104000Z
SUMMARY:Внешняя политика Испании
LOCATION:16 к. 110
END:VEVENT
BEGIN:VEVENT
UID:awky@192.168.245.71:3006
SEQUENCE:0
DTSTAMP:20260425T194140Z
DTSTART:20251006T110000Z
DTEND:20251006T124000Z
SUMMARY:Практикум по переводу социально-политических текстов
LOCATION:16 к. 521
END:VEVENT
BEGIN:VEVENT
UID:fu0j@192.168.245.71:3006
SEQUENCE:0
DTSTAMP:20260425T194140Z
DTSTART:20251007T130000Z
DTEND:20251007T144000Z
SUMMARY:Культура Испании
LOCATION:16 к. 501
END:VEVENT
BEGIN:VEVENT
UID:wijk@192.168.245.71:3006
SEQUENCE:0
DTSTAMP:20260425T194140Z
DTSTART:20251009T090000Z
DTEND:20251009T104000Z
SUMMARY:Цифровая дипломатия
LOCATION:16 к. 200
END:VEVENT
BEGIN:VEVENT
UID:zgx9@192.168.245.71:3006
SEQUENCE:0
DTSTAMP:20260425T194140Z
DTSTART:20251009T110000Z
DTEND:20251009T124000Z
SUMMARY:Цифровая дипломатия
LOCATION:16 к. 114
END:VEVENT
BEGIN:VEVENT
UID:6q3g@192.168.245.71:3006
SEQUENCE:0
DTSTAMP:20260425T194140Z
DTSTART:20251009T130000Z
DTEND:20251009T144000Z
SUMMARY:Политические исследования в международных отношениях
LOCATION:16 к. 121
END:VEVENT
BEGIN:VEVENT
UID:mwoa@192.168.245.71:3006
SEQUENCE:0
DTSTAMP:20260425T194140Z
DTSTART:20251009T150000Z
DTEND:20251009T164000Z
SUMMARY:Внешняя политика Испании
LOCATION:16 к. 511
END:VEVENT
BEGIN:VEVENT
UID:kbg0@192.168.245.71:3006
SEQUENCE:0
DTSTAMP:20260425T194140Z
DTSTART:20251010T090000Z
DTEND:20251010T104000Z
SUMMARY:Иностранный язык: Политический дискурс\, Английский\, часть 1
LOCATION:16 к. 511
END:VEVENT
BEGIN:VEVENT
UID:19os@192.168.245.71:3006
SEQUENCE:0
DTSTAMP:20260425T194140Z
DTSTART:20251010T110000Z
DTEND:20251010T124000Z
SUMMARY:Иностранный язык: Политический дискурс\, Английский\, часть 1
LOCATION:16 к. 511
END:VEVENT
BEGIN:VEVENT
UID:8nnc@192.168.245.71:3006
SEQUENCE:0
DTSTAMP:20260425T194140Z
DTSTART:20251011T110000Z
DTEND:20251011T124000Z
SUMMARY:Испанский язык: Профессионально-ориентированный курс
LOCATION:16 к. 113
END:VEVENT
BEGIN:VEVENT
UID:ztf5@192.168.245.71:3006
SEQUENCE:0
DTSTAMP:20260425T194140Z
DTSTART:20251011T130000Z
DTEND:20251011T144000Z
SUMMARY:Испанский язык: Профессионально-ориентированный курс
LOCATION:16 к. 113
END:VEVENT
END:VCALENDAR