BEGIN:VCALENDAR
VERSION:2.0
PRODID:-//spbstu.ru//ical//RU
NAME:Расписание группы 3834101/20302
X-WR-CALNAME:Расписание группы 3834101/20302
TIMEZONE-ID:Europe/Moscow
X-WR-TIMEZONE:Europe/Moscow
BEGIN:VEVENT
UID:1vmm@192.168.245.71:3006
SEQUENCE:0
DTSTAMP:20260423T182633Z
DTSTART:20260113T090000Z
DTEND:20260113T094500Z
SUMMARY:Испанский язык: Профессионально-ориентированный курс
LOCATION:16 к. 113
END:VEVENT
BEGIN:VEVENT
UID:h4oe@192.168.245.71:3006
SEQUENCE:0
DTSTAMP:20260423T182633Z
DTSTART:20260114T090000Z
DTEND:20260114T110000Z
SUMMARY:Испанский язык: Профессионально-ориентированный курс
LOCATION:16 к. 113
END:VEVENT
END:VCALENDAR