BEGIN:VCALENDAR
VERSION:2.0
PRODID:-//spbstu.ru//ical//RU
NAME:Расписание группы 3834101/20302
X-WR-CALNAME:Расписание группы 3834101/20302
TIMEZONE-ID:Europe/Moscow
X-WR-TIMEZONE:Europe/Moscow
BEGIN:VEVENT
UID:jyq1@192.168.245.71:3006
SEQUENCE:0
DTSTAMP:20260422T134814Z
DTSTART:20260302T090000Z
DTEND:20260302T104000Z
SUMMARY:Иностранный язык: Политический дискурс\, Английский\, часть 1
LOCATION:16 к. 121
END:VEVENT
BEGIN:VEVENT
UID:swh8@192.168.245.71:3006
SEQUENCE:0
DTSTAMP:20260422T134814Z
DTSTART:20260302T110000Z
DTEND:20260302T124000Z
SUMMARY:Иностранный язык: Политический дискурс\, Английский\, часть 1
LOCATION:16 к. 121
END:VEVENT
BEGIN:VEVENT
UID:6xv1@192.168.245.71:3006
SEQUENCE:0
DTSTAMP:20260422T134814Z
DTSTART:20260302T130000Z
DTEND:20260302T144000Z
SUMMARY:Этнология Испании
LOCATION:16 к. 109
END:VEVENT
BEGIN:VEVENT
UID:5vjk@192.168.245.71:3006
SEQUENCE:0
DTSTAMP:20260422T134814Z
DTSTART:20260303T110000Z
DTEND:20260303T124000Z
SUMMARY:Этнология Испании
LOCATION:16 к. 109
END:VEVENT
BEGIN:VEVENT
UID:mrqw@192.168.245.71:3006
SEQUENCE:0
DTSTAMP:20260422T134814Z
DTSTART:20260303T130000Z
DTEND:20260303T144000Z
SUMMARY:Этнология Испании
LOCATION:16 к. 109
END:VEVENT
BEGIN:VEVENT
UID:unzb@192.168.245.71:3006
SEQUENCE:0
DTSTAMP:20260422T134814Z
DTSTART:20260304T050000Z
DTEND:20260304T064000Z
SUMMARY:Ведение деловой переписки на испанском языке
LOCATION:16 к. 113
END:VEVENT
BEGIN:VEVENT
UID:sola@192.168.245.71:3006
SEQUENCE:0
DTSTAMP:20260422T134814Z
DTSTART:20260304T070000Z
DTEND:20260304T084000Z
SUMMARY:Ведение деловой переписки на испанском языке
LOCATION:16 к. 113
END:VEVENT
BEGIN:VEVENT
UID:0wd5@192.168.245.71:3006
SEQUENCE:0
DTSTAMP:20260422T134814Z
DTSTART:20260304T090000Z
DTEND:20260304T104000Z
SUMMARY:Иностранный язык: Политический дискурс\, Английский\, часть 1
LOCATION:16 к. 121
END:VEVENT
BEGIN:VEVENT
UID:dlvd@192.168.245.71:3006
SEQUENCE:0
DTSTAMP:20260422T134814Z
DTSTART:20260307T090000Z
DTEND:20260307T104000Z
SUMMARY:Ведение деловой переписки на испанском языке
LOCATION:16 к. 113
END:VEVENT
BEGIN:VEVENT
UID:r3e1@192.168.245.71:3006
SEQUENCE:0
DTSTAMP:20260422T134814Z
DTSTART:20260307T110000Z
DTEND:20260307T124000Z
SUMMARY:Ведение деловой переписки на испанском языке
LOCATION:16 к. 113
END:VEVENT
END:VCALENDAR