BEGIN:VCALENDAR
VERSION:2.0
PRODID:-//spbstu.ru//ical//RU
NAME:Расписание группы 3834101/20302
X-WR-CALNAME:Расписание группы 3834101/20302
TIMEZONE-ID:Europe/Moscow
X-WR-TIMEZONE:Europe/Moscow
BEGIN:VEVENT
UID:exyq@192.168.245.71:3006
SEQUENCE:0
DTSTAMP:20260422T020138Z
DTSTART:20260330T090000Z
DTEND:20260330T102000Z
SUMMARY:Иностранный язык: Политический дискурс\, Английский\, часть 1
LOCATION:16 к. 121
END:VEVENT
BEGIN:VEVENT
UID:ybtk@192.168.245.71:3006
SEQUENCE:0
DTSTAMP:20260422T020138Z
DTSTART:20260331T140000Z
DTEND:20260331T144500Z
SUMMARY:Этнология Испании
LOCATION:16 к. 109
END:VEVENT
BEGIN:VEVENT
UID:dj7b@192.168.245.71:3006
SEQUENCE:0
DTSTAMP:20260422T020138Z
DTSTART:20260402T130000Z
DTEND:20260402T150000Z
SUMMARY:Этнология Испании
LOCATION:16 к. 109
END:VEVENT
END:VCALENDAR