BEGIN:VCALENDAR
VERSION:2.0
PRODID:-//spbstu.ru//ical//RU
NAME:Расписание группы 3834101/20303
X-WR-CALNAME:Расписание группы 3834101/20303
TIMEZONE-ID:Europe/Moscow
X-WR-TIMEZONE:Europe/Moscow
BEGIN:VEVENT
UID:8jjp@192.168.245.71:3006
SEQUENCE:0
DTSTAMP:20260422T225009Z
DTSTART:20260209T050000Z
DTEND:20260209T064000Z
SUMMARY:Ведение деловой переписки на немецком языке
LOCATION:16 к. 109
END:VEVENT
BEGIN:VEVENT
UID:fbme@192.168.245.71:3006
SEQUENCE:0
DTSTAMP:20260422T225009Z
DTSTART:20260209T070000Z
DTEND:20260209T084000Z
SUMMARY:Ведение деловой переписки на немецком языке
LOCATION:16 к. 109
END:VEVENT
BEGIN:VEVENT
UID:ku0m@192.168.245.71:3006
SEQUENCE:0
DTSTAMP:20260422T225009Z
DTSTART:20260209T090000Z
DTEND:20260209T104000Z
SUMMARY:Иностранный язык: Политический дискурс\, Английский\, часть 1
LOCATION:16 к. 121
END:VEVENT
BEGIN:VEVENT
UID:sikn@192.168.245.71:3006
SEQUENCE:0
DTSTAMP:20260422T225009Z
DTSTART:20260209T110000Z
DTEND:20260209T124000Z
SUMMARY:Иностранный язык: Политический дискурс\, Английский\, часть 1
LOCATION:16 к. 121
END:VEVENT
BEGIN:VEVENT
UID:6piq@192.168.245.71:3006
SEQUENCE:0
DTSTAMP:20260422T225009Z
DTSTART:20260210T090000Z
DTEND:20260210T104000Z
SUMMARY:Этнология Германии
LOCATION:16 к. 201
END:VEVENT
BEGIN:VEVENT
UID:hvka@192.168.245.71:3006
SEQUENCE:0
DTSTAMP:20260422T225009Z
DTSTART:20260210T110000Z
DTEND:20260210T124000Z
SUMMARY:Этнология Германии
LOCATION:16 к. 201
END:VEVENT
BEGIN:VEVENT
UID:tebg@192.168.245.71:3006
SEQUENCE:0
DTSTAMP:20260422T225009Z
DTSTART:20260210T130000Z
DTEND:20260210T144000Z
SUMMARY:Этнология Германии
LOCATION:16 к. 201
END:VEVENT
BEGIN:VEVENT
UID:obrd@192.168.245.71:3006
SEQUENCE:0
DTSTAMP:20260422T225009Z
DTSTART:20260210T150000Z
DTEND:20260210T164000Z
SUMMARY:Иностранный язык: Политический дискурс\, Английский\, часть 1
LOCATION:16 к. 110
END:VEVENT
BEGIN:VEVENT
UID:xwte@192.168.245.71:3006
SEQUENCE:0
DTSTAMP:20260422T225009Z
DTSTART:20260211T050000Z
DTEND:20260211T064000Z
SUMMARY:Ведение деловой переписки на немецком языке
LOCATION:16 к. 109
END:VEVENT
BEGIN:VEVENT
UID:3lrk@192.168.245.71:3006
SEQUENCE:0
DTSTAMP:20260422T225009Z
DTSTART:20260211T070000Z
DTEND:20260211T084000Z
SUMMARY:Ведение деловой переписки на немецком языке
LOCATION:16 к. 109
END:VEVENT
BEGIN:VEVENT
UID:mj88@192.168.245.71:3006
SEQUENCE:0
DTSTAMP:20260422T225009Z
DTSTART:20260211T090000Z
DTEND:20260211T104000Z
SUMMARY:Иностранный язык: Политический дискурс\, Английский\, часть 1
LOCATION:16 к. 121
END:VEVENT
END:VCALENDAR