BEGIN:VCALENDAR
VERSION:2.0
PRODID:-//spbstu.ru//ical//RU
NAME:Расписание группы 3834101/20303
X-WR-CALNAME:Расписание группы 3834101/20303
TIMEZONE-ID:Europe/Moscow
X-WR-TIMEZONE:Europe/Moscow
BEGIN:VEVENT
UID:gpa2@192.168.245.71:3006
SEQUENCE:0
DTSTAMP:20260422T113956Z
DTSTART:20260323T050000Z
DTEND:20260323T064000Z
SUMMARY:Ведение деловой переписки на немецком языке
LOCATION:16 к. 109
END:VEVENT
BEGIN:VEVENT
UID:vquo@192.168.245.71:3006
SEQUENCE:0
DTSTAMP:20260422T113956Z
DTSTART:20260323T070000Z
DTEND:20260323T084000Z
SUMMARY:Ведение деловой переписки на немецком языке
LOCATION:16 к. 109
END:VEVENT
BEGIN:VEVENT
UID:mzno@192.168.245.71:3006
SEQUENCE:0
DTSTAMP:20260422T113956Z
DTSTART:20260323T090000Z
DTEND:20260323T104000Z
SUMMARY:Иностранный язык: Политический дискурс\, Английский\, часть 1
LOCATION:16 к. 121
END:VEVENT
BEGIN:VEVENT
UID:kxy4@192.168.245.71:3006
SEQUENCE:0
DTSTAMP:20260422T113956Z
DTSTART:20260323T110000Z
DTEND:20260323T124000Z
SUMMARY:Иностранный язык: Политический дискурс\, Английский\, часть 1
LOCATION:16 к. 121
END:VEVENT
BEGIN:VEVENT
UID:c5bn@192.168.245.71:3006
SEQUENCE:0
DTSTAMP:20260422T113956Z
DTSTART:20260324T050000Z
DTEND:20260324T064000Z
SUMMARY:Ведение деловой переписки на немецком языке
LOCATION:16 к. 113
END:VEVENT
BEGIN:VEVENT
UID:2mge@192.168.245.71:3006
SEQUENCE:0
DTSTAMP:20260422T113956Z
DTSTART:20260324T070000Z
DTEND:20260324T084000Z
SUMMARY:Ведение деловой переписки на немецком языке
LOCATION:16 к. 113
END:VEVENT
BEGIN:VEVENT
UID:r8tz@192.168.245.71:3006
SEQUENCE:0
DTSTAMP:20260422T113956Z
DTSTART:20260325T070000Z
DTEND:20260325T084000Z
SUMMARY:Ведение деловой переписки на немецком языке
LOCATION:16 к. 109
END:VEVENT
BEGIN:VEVENT
UID:4iz2@192.168.245.71:3006
SEQUENCE:0
DTSTAMP:20260422T113956Z
DTSTART:20260326T110000Z
DTEND:20260326T114500Z
SUMMARY:Этнология Германии
LOCATION:16 к. 121
END:VEVENT
BEGIN:VEVENT
UID:zxwl@192.168.245.71:3006
SEQUENCE:0
DTSTAMP:20260422T113956Z
DTSTART:20260327T090000Z
DTEND:20260327T094500Z
SUMMARY:Иностранный язык: Политический дискурс\, Английский\, часть 1
LOCATION:16 к. 114
END:VEVENT
END:VCALENDAR