BEGIN:VCALENDAR
VERSION:2.0
PRODID:-//spbstu.ru//ical//RU
NAME:Расписание группы 3834101/20304
X-WR-CALNAME:Расписание группы 3834101/20304
TIMEZONE-ID:Europe/Moscow
X-WR-TIMEZONE:Europe/Moscow
BEGIN:VEVENT
UID:3ds4@192.168.245.71:3006
SEQUENCE:0
DTSTAMP:20260424T220721Z
DTSTART:20251215T090000Z
DTEND:20251215T104000Z
SUMMARY:Китайский язык: Профессионально-ориентированный курс
LOCATION:16 к. 111
END:VEVENT
BEGIN:VEVENT
UID:30qt@192.168.245.71:3006
SEQUENCE:0
DTSTAMP:20260424T220721Z
DTSTART:20251215T110000Z
DTEND:20251215T124000Z
SUMMARY:Иностранный язык: Политический дискурс\, Английский\, часть 1
LOCATION:16 к. 503
END:VEVENT
BEGIN:VEVENT
UID:a10p@192.168.245.71:3006
SEQUENCE:0
DTSTAMP:20260424T220721Z
DTSTART:20251215T130000Z
DTEND:20251215T144000Z
SUMMARY:Иностранный язык: Политический дискурс\, Английский\, часть 1
LOCATION:16 к. 503
END:VEVENT
BEGIN:VEVENT
UID:8c83@192.168.245.71:3006
SEQUENCE:0
DTSTAMP:20260424T220721Z
DTSTART:20251216T090000Z
DTEND:20251216T104000Z
SUMMARY:Внешняя политика Китая
LOCATION:16 к. 515
END:VEVENT
BEGIN:VEVENT
UID:whqw@192.168.245.71:3006
SEQUENCE:0
DTSTAMP:20260424T220721Z
DTSTART:20251216T103000Z
DTEND:20251216T110000Z
SUMMARY:Научно-исследовательская работа
LOCATION:16 к. кафедра
END:VEVENT
BEGIN:VEVENT
UID:rvgt@192.168.245.71:3006
SEQUENCE:0
DTSTAMP:20260424T220721Z
DTSTART:20251216T110000Z
DTEND:20251216T124000Z
SUMMARY:Цифровая дипломатия
LOCATION:16 к. 521
END:VEVENT
BEGIN:VEVENT
UID:lz2w@192.168.245.71:3006
SEQUENCE:0
DTSTAMP:20260424T220721Z
DTSTART:20251216T130000Z
DTEND:20251216T144000Z
SUMMARY:Политические исследования в международных отношениях
LOCATION:16 к. 114
END:VEVENT
BEGIN:VEVENT
UID:08d8@192.168.245.71:3006
SEQUENCE:0
DTSTAMP:20260424T220721Z
DTSTART:20251216T150000Z
DTEND:20251216T164000Z
SUMMARY:Практикум по переводу социально-политических текстов
LOCATION:16 к. 511
END:VEVENT
BEGIN:VEVENT
UID:421v@192.168.245.71:3006
SEQUENCE:0
DTSTAMP:20260424T220721Z
DTSTART:20251217T090000Z
DTEND:20251217T110000Z
SUMMARY:Иностранный язык: Политический дискурс\, Английский\, часть 1
LOCATION:16 к. 109
END:VEVENT
BEGIN:VEVENT
UID:46af@192.168.245.71:3006
SEQUENCE:0
DTSTAMP:20260424T220721Z
DTSTART:20251219T090000Z
DTEND:20251219T102000Z
SUMMARY:Цифровая дипломатия
LOCATION:16 к. 414
END:VEVENT
END:VCALENDAR