BEGIN:VCALENDAR
VERSION:2.0
PRODID:-//spbstu.ru//ical//RU
NAME:Расписание группы 3834101/20304
X-WR-CALNAME:Расписание группы 3834101/20304
TIMEZONE-ID:Europe/Moscow
X-WR-TIMEZONE:Europe/Moscow
BEGIN:VEVENT
UID:andh@192.168.245.71:3006
SEQUENCE:0
DTSTAMP:20260424T011510Z
DTSTART:20260114T070000Z
DTEND:20260114T074500Z
SUMMARY:Китайский язык: Профессионально-ориентированный курс
LOCATION:16 к. 111
END:VEVENT
BEGIN:VEVENT
UID:hf46@192.168.245.71:3006
SEQUENCE:0
DTSTAMP:20260424T011510Z
DTSTART:20260115T070000Z
DTEND:20260115T114000Z
SUMMARY:Китайский язык: Профессионально-ориентированный курс
LOCATION:16 к. 111
END:VEVENT
BEGIN:VEVENT
UID:v5x0@192.168.245.71:3006
SEQUENCE:0
DTSTAMP:20260424T011510Z
DTSTART:20260117T090000Z
DTEND:20260117T094500Z
SUMMARY:Культура Китая
LOCATION:16 к. 114
END:VEVENT
END:VCALENDAR