BEGIN:VCALENDAR
VERSION:2.0
PRODID:-//spbstu.ru//ical//RU
NAME:Расписание группы 3834502/20101
X-WR-CALNAME:Расписание группы 3834502/20101
TIMEZONE-ID:Europe/Moscow
X-WR-TIMEZONE:Europe/Moscow
BEGIN:VEVENT
UID:7z2t@192.168.245.71:3006
SEQUENCE:0
DTSTAMP:20260421T063720Z
DTSTART:20260420T110000Z
DTEND:20260420T124000Z
SUMMARY:Практикум по культуре речевого общения второго иностранного языка 
 (французский язык)
LOCATION:9 к. 127
END:VEVENT
BEGIN:VEVENT
UID:l0rq@192.168.245.71:3006
SEQUENCE:0
DTSTAMP:20260421T063720Z
DTSTART:20260420T110000Z
DTEND:20260420T124000Z
SUMMARY:Практикум по культуре речевого общения второго иностранного языка 
 (испанский язык)
LOCATION:9 к. 208
END:VEVENT
BEGIN:VEVENT
UID:3cgy@192.168.245.71:3006
SEQUENCE:0
DTSTAMP:20260421T063720Z
DTSTART:20260420T130000Z
DTEND:20260420T144000Z
SUMMARY:Разговорная практика
LOCATION:9 к. 217
END:VEVENT
BEGIN:VEVENT
UID:h8nw@192.168.245.71:3006
SEQUENCE:0
DTSTAMP:20260421T063720Z
DTSTART:20260421T050000Z
DTEND:20260421T064000Z
SUMMARY:Разговорная практика
LOCATION:9 к. 333
END:VEVENT
BEGIN:VEVENT
UID:wun7@192.168.245.71:3006
SEQUENCE:0
DTSTAMP:20260421T063720Z
DTSTART:20260421T070000Z
DTEND:20260421T084000Z
SUMMARY:Стилистический анализ текста (английский язык)
LOCATION:9 к. 208
END:VEVENT
BEGIN:VEVENT
UID:mwqi@192.168.245.71:3006
SEQUENCE:0
DTSTAMP:20260421T063720Z
DTSTART:20260421T090000Z
DTEND:20260421T104000Z
SUMMARY:Практикум по культуре речевого общения второго иностранного языка 
 (немецкий язык)
LOCATION:9 к. 241
END:VEVENT
BEGIN:VEVENT
UID:lpr5@192.168.245.71:3006
SEQUENCE:0
DTSTAMP:20260421T063720Z
DTSTART:20260421T090000Z
DTEND:20260421T104000Z
SUMMARY:Практикум по культуре речевого общения второго иностранного языка 
 (китайский язык)
LOCATION:9 к. 129
END:VEVENT
BEGIN:VEVENT
UID:d2mx@192.168.245.71:3006
SEQUENCE:0
DTSTAMP:20260421T063720Z
DTSTART:20260422T070000Z
DTEND:20260422T084000Z
SUMMARY:Лексико-грамматический практикум
LOCATION:9 к. 219
END:VEVENT
BEGIN:VEVENT
UID:wakx@192.168.245.71:3006
SEQUENCE:0
DTSTAMP:20260421T063720Z
DTSTART:20260422T090000Z
DTEND:20260422T104000Z
SUMMARY:Английский язык для академических целей
LOCATION:9 к. 415
END:VEVENT
BEGIN:VEVENT
UID:vk80@192.168.245.71:3006
SEQUENCE:0
DTSTAMP:20260421T063720Z
DTSTART:20260422T110000Z
DTEND:20260422T124000Z
SUMMARY:Педагогическое проектирование в цифровой образовательной среде
LOCATION:9 к. 432
END:VEVENT
BEGIN:VEVENT
UID:cpzn@192.168.245.71:3006
SEQUENCE:0
DTSTAMP:20260421T063720Z
DTSTART:20260422T130000Z
DTEND:20260422T144000Z
SUMMARY:Лексико-грамматический практикум
LOCATION:9 к. 219
END:VEVENT
BEGIN:VEVENT
UID:ixrw@192.168.245.71:3006
SEQUENCE:0
DTSTAMP:20260421T063720Z
DTSTART:20260424T070000Z
DTEND:20260424T084000Z
SUMMARY:Английский язык для академических целей
LOCATION:9 к. 315
END:VEVENT
BEGIN:VEVENT
UID:jtwg@192.168.245.71:3006
SEQUENCE:0
DTSTAMP:20260421T063720Z
DTSTART:20260424T090000Z
DTEND:20260424T104000Z
SUMMARY:Медиалингвистика
LOCATION:ГЗ 101
END:VEVENT
END:VCALENDAR