BEGIN:VCALENDAR
VERSION:2.0
PRODID:-//spbstu.ru//ical//RU
NAME:Расписание группы 3834502/20101
X-WR-CALNAME:Расписание группы 3834502/20101
TIMEZONE-ID:Europe/Moscow
X-WR-TIMEZONE:Europe/Moscow
BEGIN:VEVENT
UID:ihvj@192.168.245.71:3006
SEQUENCE:0
DTSTAMP:20260421T162520Z
DTSTART:20260511T090000Z
DTEND:20260511T104000Z
SUMMARY:Практикум по культуре речевого общения второго иностранного языка 
 (немецкий язык)
LOCATION:9 к. 212
END:VEVENT
BEGIN:VEVENT
UID:c1gw@192.168.245.71:3006
SEQUENCE:0
DTSTAMP:20260421T162520Z
DTSTART:20260511T110000Z
DTEND:20260511T124000Z
SUMMARY:Практикум по культуре речевого общения второго иностранного языка 
 (испанский язык)
LOCATION:9 к. 208
END:VEVENT
BEGIN:VEVENT
UID:olj6@192.168.245.71:3006
SEQUENCE:0
DTSTAMP:20260421T162520Z
DTSTART:20260511T130000Z
DTEND:20260511T144000Z
SUMMARY:Практикум по культуре речевого общения второго иностранного языка 
 (китайский язык)
LOCATION:9 к. 216
END:VEVENT
BEGIN:VEVENT
UID:jobg@192.168.245.71:3006
SEQUENCE:0
DTSTAMP:20260421T162520Z
DTSTART:20260512T050000Z
DTEND:20260512T073000Z
SUMMARY:Практикум по культуре речевого общения второго иностранного языка 
 (испанский язык)
LOCATION:9 к. 217
END:VEVENT
BEGIN:VEVENT
UID:3ptn@192.168.245.71:3006
SEQUENCE:0
DTSTAMP:20260421T162520Z
DTSTART:20260512T070000Z
DTEND:20260512T084000Z
SUMMARY:Практикум по культуре речевого общения второго иностранного языка 
 (французский язык)
LOCATION:9 к. 127
END:VEVENT
BEGIN:VEVENT
UID:ybm2@192.168.245.71:3006
SEQUENCE:0
DTSTAMP:20260421T162520Z
DTSTART:20260512T090000Z
DTEND:20260512T113000Z
SUMMARY:Практикум по культуре речевого общения второго иностранного языка 
 (китайский язык)
LOCATION:9 к. 129
END:VEVENT
BEGIN:VEVENT
UID:i0yk@192.168.245.71:3006
SEQUENCE:0
DTSTAMP:20260421T162520Z
DTSTART:20260512T090000Z
DTEND:20260512T113000Z
SUMMARY:Практикум по культуре речевого общения второго иностранного языка 
 (немецкий язык)
LOCATION:9 к. 208
END:VEVENT
BEGIN:VEVENT
UID:5dkz@192.168.245.71:3006
SEQUENCE:0
DTSTAMP:20260421T162520Z
DTSTART:20260513T110000Z
DTEND:20260513T124000Z
SUMMARY:Педагогическое проектирование в цифровой образовательной среде
LOCATION:ГЗ 101
END:VEVENT
BEGIN:VEVENT
UID:jo0y@192.168.245.71:3006
SEQUENCE:0
DTSTAMP:20260421T162520Z
DTSTART:20260515T090000Z
DTEND:20260515T123000Z
SUMMARY:Педагогическое проектирование в цифровой образовательной среде
LOCATION:9 к. 216
END:VEVENT
END:VCALENDAR