BEGIN:VCALENDAR
VERSION:2.0
PRODID:-//spbstu.ru//ical//RU
NAME:Расписание группы 3834502/20101
X-WR-CALNAME:Расписание группы 3834502/20101
TIMEZONE-ID:Europe/Moscow
X-WR-TIMEZONE:Europe/Moscow
BEGIN:VEVENT
UID:m7kf@192.168.245.71:3006
SEQUENCE:0
DTSTAMP:20260423T164933Z
DTSTART:20260505T070000Z
DTEND:20260505T100000Z
SUMMARY:Медиалингвистика
LOCATION:9 к. 323
END:VEVENT
BEGIN:VEVENT
UID:h7hu@192.168.245.71:3006
SEQUENCE:0
DTSTAMP:20260423T164933Z
DTSTART:20260506T070000Z
DTEND:20260506T084000Z
SUMMARY:Лексико-грамматический практикум
LOCATION:9 к. 219
END:VEVENT
BEGIN:VEVENT
UID:lvzy@192.168.245.71:3006
SEQUENCE:0
DTSTAMP:20260423T164933Z
DTSTART:20260506T130000Z
DTEND:20260506T144000Z
SUMMARY:Лексико-грамматический практикум
LOCATION:9 к. 219
END:VEVENT
BEGIN:VEVENT
UID:fdtq@192.168.245.71:3006
SEQUENCE:0
DTSTAMP:20260423T164933Z
DTSTART:20260507T070000Z
DTEND:20260507T084000Z
SUMMARY:Практикум по культуре речевого общения второго иностранного языка 
 (французский язык)
LOCATION:9 к. 127
END:VEVENT
BEGIN:VEVENT
UID:mqge@192.168.245.71:3006
SEQUENCE:0
DTSTAMP:20260423T164933Z
DTSTART:20260508T070000Z
DTEND:20260508T093000Z
SUMMARY:Английский язык для академических целей
LOCATION:9 к. 221
END:VEVENT
BEGIN:VEVENT
UID:svbb@192.168.245.71:3006
SEQUENCE:0
DTSTAMP:20260423T164933Z
DTSTART:20260508T100000Z
DTEND:20260508T130000Z
SUMMARY:Английский язык для академических целей
LOCATION:9 к. 221
END:VEVENT
END:VCALENDAR