BEGIN:VCALENDAR
VERSION:2.0
PRODID:-//spbstu.ru//ical//RU
NAME:Расписание группы 3834502/20201
X-WR-CALNAME:Расписание группы 3834502/20201
TIMEZONE-ID:Europe/Moscow
X-WR-TIMEZONE:Europe/Moscow
BEGIN:VEVENT
UID:rjyx@192.168.245.71:3006
SEQUENCE:0
DTSTAMP:20260424T235032Z
DTSTART:20251020T110000Z
DTEND:20251020T124000Z
SUMMARY:Практикум по письменному переводу
LOCATION:6 к. 17
END:VEVENT
BEGIN:VEVENT
UID:9tgf@192.168.245.71:3006
SEQUENCE:0
DTSTAMP:20260424T235032Z
DTSTART:20251020T130000Z
DTEND:20251020T144000Z
SUMMARY:Практикум по культуре речевого общения второго иностранного языка 
 (испанский язык)
LOCATION:9 к. 313
END:VEVENT
BEGIN:VEVENT
UID:mr8l@192.168.245.71:3006
SEQUENCE:0
DTSTAMP:20260424T235032Z
DTSTART:20251020T130000Z
DTEND:20251020T144000Z
SUMMARY:Практикум по культуре речевого общения второго иностранного языка 
 (французский язык)
LOCATION:9 к. 127
END:VEVENT
BEGIN:VEVENT
UID:wtoc@192.168.245.71:3006
SEQUENCE:0
DTSTAMP:20260424T235032Z
DTSTART:20251020T130000Z
DTEND:20251020T144000Z
SUMMARY:Практикум по культуре речевого общения второго иностранного языка 
 (немецкий язык)
LOCATION:9 к. 208
END:VEVENT
BEGIN:VEVENT
UID:0lon@192.168.245.71:3006
SEQUENCE:0
DTSTAMP:20260424T235032Z
DTSTART:20251021T090000Z
DTEND:20251021T104000Z
SUMMARY:Практикум по культуре речевого общения второго иностранного языка 
 (немецкий язык)
LOCATION:9 к. 415
END:VEVENT
BEGIN:VEVENT
UID:ufcp@192.168.245.71:3006
SEQUENCE:0
DTSTAMP:20260424T235032Z
DTSTART:20251021T110000Z
DTEND:20251021T124000Z
SUMMARY:Практикум по культуре речевого общения второго иностранного языка 
 (китайский язык)
LOCATION:9 к. 129
END:VEVENT
BEGIN:VEVENT
UID:s1m4@192.168.245.71:3006
SEQUENCE:0
DTSTAMP:20260424T235032Z
DTSTART:20251022T070000Z
DTEND:20251022T084000Z
SUMMARY:Практикум по культуре речевого общения первого иностранного языка
LOCATION:6 к. 18
END:VEVENT
BEGIN:VEVENT
UID:b3yy@192.168.245.71:3006
SEQUENCE:0
DTSTAMP:20260424T235032Z
DTSTART:20251022T070000Z
DTEND:20251022T084000Z
SUMMARY:Научно-технический перевод
LOCATION:6 к. конф. зал
END:VEVENT
BEGIN:VEVENT
UID:fgsn@192.168.245.71:3006
SEQUENCE:0
DTSTAMP:20260424T235032Z
DTSTART:20251022T090000Z
DTEND:20251022T104000Z
SUMMARY:Научно-технический перевод
LOCATION:6 к. конф. зал
END:VEVENT
BEGIN:VEVENT
UID:neyz@192.168.245.71:3006
SEQUENCE:0
DTSTAMP:20260424T235032Z
DTSTART:20251022T090000Z
DTEND:20251022T104000Z
SUMMARY:Практикум по культуре речевого общения первого иностранного языка
LOCATION:6 к. 18
END:VEVENT
BEGIN:VEVENT
UID:jl80@192.168.245.71:3006
SEQUENCE:0
DTSTAMP:20260424T235032Z
DTSTART:20251022T110000Z
DTEND:20251022T124000Z
SUMMARY:Практикум по письменному переводу
LOCATION:6 к. 17
END:VEVENT
BEGIN:VEVENT
UID:bh40@192.168.245.71:3006
SEQUENCE:0
DTSTAMP:20260424T235032Z
DTSTART:20251022T130000Z
DTEND:20251022T144000Z
SUMMARY:Практикум по культуре речевого общения второго иностранного языка 
 (французский язык)
LOCATION:9 к. 415
END:VEVENT
BEGIN:VEVENT
UID:s5h9@192.168.245.71:3006
SEQUENCE:0
DTSTAMP:20260424T235032Z
DTSTART:20251022T130000Z
DTEND:20251022T144000Z
SUMMARY:Практикум по культуре речевого общения второго иностранного языка 
 (китайский язык)
LOCATION:9 к. 129
END:VEVENT
BEGIN:VEVENT
UID:j641@192.168.245.71:3006
SEQUENCE:0
DTSTAMP:20260424T235032Z
DTSTART:20251024T090000Z
DTEND:20251024T104000Z
SUMMARY:Практикум по культуре речевого общения второго иностранного языка 
 (испанский язык)
LOCATION:9 к. 217
END:VEVENT
BEGIN:VEVENT
UID:c0w9@192.168.245.71:3006
SEQUENCE:0
DTSTAMP:20260424T235032Z
DTSTART:20251024T110000Z
DTEND:20251024T124000Z
SUMMARY:Стилистика
LOCATION:9 к. 212
END:VEVENT
BEGIN:VEVENT
UID:lozc@192.168.245.71:3006
SEQUENCE:0
DTSTAMP:20260424T235032Z
DTSTART:20251024T130000Z
DTEND:20251024T144000Z
SUMMARY:Цифровые технологии перевода
LOCATION:9 к. 210
END:VEVENT
END:VCALENDAR