BEGIN:VCALENDAR
VERSION:2.0
PRODID:-//spbstu.ru//ical//RU
NAME:Расписание группы 3834502/20201
X-WR-CALNAME:Расписание группы 3834502/20201
TIMEZONE-ID:Europe/Moscow
X-WR-TIMEZONE:Europe/Moscow
BEGIN:VEVENT
UID:v3el@192.168.245.71:3006
SEQUENCE:0
DTSTAMP:20260424T074704Z
DTSTART:20251201T110000Z
DTEND:20251201T124000Z
SUMMARY:Практикум по письменному переводу
LOCATION:6 к. 17
END:VEVENT
BEGIN:VEVENT
UID:xmcp@192.168.245.71:3006
SEQUENCE:0
DTSTAMP:20260424T074704Z
DTSTART:20251201T130000Z
DTEND:20251201T144000Z
SUMMARY:Практикум по культуре речевого общения второго иностранного языка 
 (испанский язык)
LOCATION:9 к. 313
END:VEVENT
BEGIN:VEVENT
UID:dj5c@192.168.245.71:3006
SEQUENCE:0
DTSTAMP:20260424T074704Z
DTSTART:20251201T130000Z
DTEND:20251201T144000Z
SUMMARY:Практикум по культуре речевого общения второго иностранного языка 
 (французский язык)
LOCATION:9 к. 127
END:VEVENT
BEGIN:VEVENT
UID:t248@192.168.245.71:3006
SEQUENCE:0
DTSTAMP:20260424T074704Z
DTSTART:20251201T130000Z
DTEND:20251201T144000Z
SUMMARY:Практикум по культуре речевого общения второго иностранного языка 
 (немецкий язык)
LOCATION:9 к. 208
END:VEVENT
BEGIN:VEVENT
UID:lvoi@192.168.245.71:3006
SEQUENCE:0
DTSTAMP:20260424T074704Z
DTSTART:20251202T090000Z
DTEND:20251202T104000Z
SUMMARY:Практикум по культуре речевого общения второго иностранного языка 
 (немецкий язык)
LOCATION:9 к. 415
END:VEVENT
BEGIN:VEVENT
UID:232l@192.168.245.71:3006
SEQUENCE:0
DTSTAMP:20260424T074704Z
DTSTART:20251202T110000Z
DTEND:20251202T124000Z
SUMMARY:Практикум по культуре речевого общения второго иностранного языка 
 (китайский язык)
LOCATION:9 к. 129
END:VEVENT
BEGIN:VEVENT
UID:l1xh@192.168.245.71:3006
SEQUENCE:0
DTSTAMP:20260424T074704Z
DTSTART:20251203T070000Z
DTEND:20251203T084000Z
SUMMARY:Практикум по культуре речевого общения первого иностранного языка
LOCATION:6 к. 18
END:VEVENT
BEGIN:VEVENT
UID:7vzr@192.168.245.71:3006
SEQUENCE:0
DTSTAMP:20260424T074704Z
DTSTART:20251203T070000Z
DTEND:20251203T084000Z
SUMMARY:Научно-технический перевод
LOCATION:6 к. конф. зал
END:VEVENT
BEGIN:VEVENT
UID:2ndg@192.168.245.71:3006
SEQUENCE:0
DTSTAMP:20260424T074704Z
DTSTART:20251203T090000Z
DTEND:20251203T104000Z
SUMMARY:Научно-технический перевод
LOCATION:6 к. конф. зал
END:VEVENT
BEGIN:VEVENT
UID:jsg0@192.168.245.71:3006
SEQUENCE:0
DTSTAMP:20260424T074704Z
DTSTART:20251203T090000Z
DTEND:20251203T104000Z
SUMMARY:Практикум по культуре речевого общения первого иностранного языка
LOCATION:6 к. 18
END:VEVENT
BEGIN:VEVENT
UID:xfhz@192.168.245.71:3006
SEQUENCE:0
DTSTAMP:20260424T074704Z
DTSTART:20251203T110000Z
DTEND:20251203T124000Z
SUMMARY:Практикум по письменному переводу
LOCATION:6 к. 17
END:VEVENT
BEGIN:VEVENT
UID:tcm8@192.168.245.71:3006
SEQUENCE:0
DTSTAMP:20260424T074704Z
DTSTART:20251203T130000Z
DTEND:20251203T144000Z
SUMMARY:Практикум по культуре речевого общения второго иностранного языка 
 (французский язык)
LOCATION:9 к. 415
END:VEVENT
BEGIN:VEVENT
UID:tfaz@192.168.245.71:3006
SEQUENCE:0
DTSTAMP:20260424T074704Z
DTSTART:20251203T130000Z
DTEND:20251203T144000Z
SUMMARY:Практикум по культуре речевого общения второго иностранного языка 
 (китайский язык)
LOCATION:9 к. 129
END:VEVENT
BEGIN:VEVENT
UID:peq1@192.168.245.71:3006
SEQUENCE:0
DTSTAMP:20260424T074704Z
DTSTART:20251205T090000Z
DTEND:20251205T104000Z
SUMMARY:Практикум по культуре речевого общения второго иностранного языка 
 (испанский язык)
LOCATION:9 к. 217
END:VEVENT
BEGIN:VEVENT
UID:83uh@192.168.245.71:3006
SEQUENCE:0
DTSTAMP:20260424T074704Z
DTSTART:20251205T110000Z
DTEND:20251205T124000Z
SUMMARY:Стилистика
LOCATION:9 к. 212
END:VEVENT
BEGIN:VEVENT
UID:2unv@192.168.245.71:3006
SEQUENCE:0
DTSTAMP:20260424T074704Z
DTSTART:20251205T130000Z
DTEND:20251205T144000Z
SUMMARY:Цифровые технологии перевода
LOCATION:9 к. 210
END:VEVENT
END:VCALENDAR