BEGIN:VCALENDAR
VERSION:2.0
PRODID:-//spbstu.ru//ical//RU
NAME:Расписание группы 3834502/20201
X-WR-CALNAME:Расписание группы 3834502/20201
TIMEZONE-ID:Europe/Moscow
X-WR-TIMEZONE:Europe/Moscow
BEGIN:VEVENT
UID:gpmy@192.168.245.71:3006
SEQUENCE:0
DTSTAMP:20260425T180542Z
DTSTART:20250915T110000Z
DTEND:20250915T124000Z
SUMMARY:Практикум по письменному переводу
LOCATION:6 к. 17
END:VEVENT
BEGIN:VEVENT
UID:o3u3@192.168.245.71:3006
SEQUENCE:0
DTSTAMP:20260425T180542Z
DTSTART:20250915T130000Z
DTEND:20250915T144000Z
SUMMARY:Практикум по культуре речевого общения второго иностранного языка 
 (испанский язык)
LOCATION:9 к. 313
END:VEVENT
BEGIN:VEVENT
UID:19uk@192.168.245.71:3006
SEQUENCE:0
DTSTAMP:20260425T180542Z
DTSTART:20250915T130000Z
DTEND:20250915T144000Z
SUMMARY:Практикум по культуре речевого общения второго иностранного языка 
 (французский язык)
LOCATION:9 к. 127
END:VEVENT
BEGIN:VEVENT
UID:i0iy@192.168.245.71:3006
SEQUENCE:0
DTSTAMP:20260425T180542Z
DTSTART:20250915T130000Z
DTEND:20250915T144000Z
SUMMARY:Практикум по культуре речевого общения второго иностранного языка 
 (немецкий язык)
LOCATION:9 к. 208
END:VEVENT
BEGIN:VEVENT
UID:rc0x@192.168.245.71:3006
SEQUENCE:0
DTSTAMP:20260425T180542Z
DTSTART:20250916T090000Z
DTEND:20250916T104000Z
SUMMARY:Практикум по культуре речевого общения второго иностранного языка 
 (немецкий язык)
LOCATION:9 к. 415
END:VEVENT
BEGIN:VEVENT
UID:ex38@192.168.245.71:3006
SEQUENCE:0
DTSTAMP:20260425T180542Z
DTSTART:20250916T110000Z
DTEND:20250916T124000Z
SUMMARY:Практикум по культуре речевого общения второго иностранного языка 
 (китайский язык)
LOCATION:9 к. 129
END:VEVENT
BEGIN:VEVENT
UID:se6i@192.168.245.71:3006
SEQUENCE:0
DTSTAMP:20260425T180542Z
DTSTART:20250917T070000Z
DTEND:20250917T084000Z
SUMMARY:Практикум по культуре речевого общения первого иностранного языка
LOCATION:6 к. 18
END:VEVENT
BEGIN:VEVENT
UID:8p75@192.168.245.71:3006
SEQUENCE:0
DTSTAMP:20260425T180542Z
DTSTART:20250917T070000Z
DTEND:20250917T084000Z
SUMMARY:Научно-технический перевод
LOCATION:6 к. конф. зал
END:VEVENT
BEGIN:VEVENT
UID:ybg1@192.168.245.71:3006
SEQUENCE:0
DTSTAMP:20260425T180542Z
DTSTART:20250917T090000Z
DTEND:20250917T104000Z
SUMMARY:Научно-технический перевод
LOCATION:6 к. конф. зал
END:VEVENT
BEGIN:VEVENT
UID:12rx@192.168.245.71:3006
SEQUENCE:0
DTSTAMP:20260425T180542Z
DTSTART:20250917T090000Z
DTEND:20250917T104000Z
SUMMARY:Практикум по культуре речевого общения первого иностранного языка
LOCATION:6 к. 18
END:VEVENT
BEGIN:VEVENT
UID:rdog@192.168.245.71:3006
SEQUENCE:0
DTSTAMP:20260425T180542Z
DTSTART:20250917T110000Z
DTEND:20250917T124000Z
SUMMARY:Практикум по письменному переводу
LOCATION:6 к. 17
END:VEVENT
BEGIN:VEVENT
UID:fblm@192.168.245.71:3006
SEQUENCE:0
DTSTAMP:20260425T180542Z
DTSTART:20250917T130000Z
DTEND:20250917T144000Z
SUMMARY:Практикум по культуре речевого общения второго иностранного языка 
 (французский язык)
LOCATION:9 к. 415
END:VEVENT
BEGIN:VEVENT
UID:g1q5@192.168.245.71:3006
SEQUENCE:0
DTSTAMP:20260425T180542Z
DTSTART:20250917T130000Z
DTEND:20250917T144000Z
SUMMARY:Практикум по культуре речевого общения второго иностранного языка 
 (китайский язык)
LOCATION:9 к. 129
END:VEVENT
BEGIN:VEVENT
UID:oflc@192.168.245.71:3006
SEQUENCE:0
DTSTAMP:20260425T180542Z
DTSTART:20250919T090000Z
DTEND:20250919T104000Z
SUMMARY:Практикум по культуре речевого общения второго иностранного языка 
 (испанский язык)
LOCATION:9 к. 217
END:VEVENT
BEGIN:VEVENT
UID:xhtz@192.168.245.71:3006
SEQUENCE:0
DTSTAMP:20260425T180542Z
DTSTART:20250919T110000Z
DTEND:20250919T124000Z
SUMMARY:Стилистика
LOCATION:ГЗ 101
END:VEVENT
END:VCALENDAR