BEGIN:VCALENDAR
VERSION:2.0
PRODID:-//spbstu.ru//ical//RU
NAME:Расписание группы 3834502/20201
X-WR-CALNAME:Расписание группы 3834502/20201
TIMEZONE-ID:Europe/Moscow
X-WR-TIMEZONE:Europe/Moscow
BEGIN:VEVENT
UID:m7my@192.168.245.71:3006
SEQUENCE:0
DTSTAMP:20260425T170514Z
DTSTART:20250908T110000Z
DTEND:20250908T124000Z
SUMMARY:Практикум по письменному переводу
LOCATION:6 к. 17
END:VEVENT
BEGIN:VEVENT
UID:odpx@192.168.245.71:3006
SEQUENCE:0
DTSTAMP:20260425T170514Z
DTSTART:20250908T130000Z
DTEND:20250908T144000Z
SUMMARY:Практикум по культуре речевого общения второго иностранного языка 
 (немецкий язык)
LOCATION:9 к. 208
END:VEVENT
BEGIN:VEVENT
UID:hmx3@192.168.245.71:3006
SEQUENCE:0
DTSTAMP:20260425T170514Z
DTSTART:20250908T130000Z
DTEND:20250908T144000Z
SUMMARY:Практикум по культуре речевого общения второго иностранного языка 
 (испанский язык)
LOCATION:9 к. 313
END:VEVENT
BEGIN:VEVENT
UID:3v96@192.168.245.71:3006
SEQUENCE:0
DTSTAMP:20260425T170514Z
DTSTART:20250908T130000Z
DTEND:20250908T144000Z
SUMMARY:Практикум по культуре речевого общения второго иностранного языка 
 (французский язык)
LOCATION:9 к. 127
END:VEVENT
BEGIN:VEVENT
UID:c2m7@192.168.245.71:3006
SEQUENCE:0
DTSTAMP:20260425T170514Z
DTSTART:20250909T090000Z
DTEND:20250909T104000Z
SUMMARY:Практикум по культуре речевого общения второго иностранного языка 
 (немецкий язык)
LOCATION:9 к. 415
END:VEVENT
BEGIN:VEVENT
UID:qpbm@192.168.245.71:3006
SEQUENCE:0
DTSTAMP:20260425T170514Z
DTSTART:20250909T110000Z
DTEND:20250909T124000Z
SUMMARY:Практикум по культуре речевого общения второго иностранного языка 
 (китайский язык)
LOCATION:9 к. 129
END:VEVENT
BEGIN:VEVENT
UID:a135@192.168.245.71:3006
SEQUENCE:0
DTSTAMP:20260425T170514Z
DTSTART:20250910T070000Z
DTEND:20250910T084000Z
SUMMARY:Практикум по культуре речевого общения первого иностранного языка
LOCATION:6 к. 18
END:VEVENT
BEGIN:VEVENT
UID:91zy@192.168.245.71:3006
SEQUENCE:0
DTSTAMP:20260425T170514Z
DTSTART:20250910T070000Z
DTEND:20250910T084000Z
SUMMARY:Научно-технический перевод
LOCATION:6 к. конф. зал
END:VEVENT
BEGIN:VEVENT
UID:hlm1@192.168.245.71:3006
SEQUENCE:0
DTSTAMP:20260425T170514Z
DTSTART:20250910T090000Z
DTEND:20250910T104000Z
SUMMARY:Научно-технический перевод
LOCATION:6 к. конф. зал
END:VEVENT
BEGIN:VEVENT
UID:l3xx@192.168.245.71:3006
SEQUENCE:0
DTSTAMP:20260425T170514Z
DTSTART:20250910T110000Z
DTEND:20250910T124000Z
SUMMARY:Практикум по письменному переводу
LOCATION:6 к. 17
END:VEVENT
BEGIN:VEVENT
UID:s1zx@192.168.245.71:3006
SEQUENCE:0
DTSTAMP:20260425T170514Z
DTSTART:20250910T130000Z
DTEND:20250910T144000Z
SUMMARY:Практикум по культуре речевого общения второго иностранного языка 
 (французский язык)
LOCATION:9 к. 415
END:VEVENT
BEGIN:VEVENT
UID:j877@192.168.245.71:3006
SEQUENCE:0
DTSTAMP:20260425T170514Z
DTSTART:20250910T130000Z
DTEND:20250910T144000Z
SUMMARY:Практикум по культуре речевого общения второго иностранного языка 
 (китайский язык)
LOCATION:9 к. 129
END:VEVENT
BEGIN:VEVENT
UID:vzmk@192.168.245.71:3006
SEQUENCE:0
DTSTAMP:20260425T170514Z
DTSTART:20250912T090000Z
DTEND:20250912T104000Z
SUMMARY:Практикум по культуре речевого общения второго иностранного языка 
 (испанский язык)
LOCATION:9 к. 217
END:VEVENT
BEGIN:VEVENT
UID:gey2@192.168.245.71:3006
SEQUENCE:0
DTSTAMP:20260425T170514Z
DTSTART:20250912T110000Z
DTEND:20250912T124000Z
SUMMARY:Стилистика
LOCATION:9 к. 212
END:VEVENT
BEGIN:VEVENT
UID:28ic@192.168.245.71:3006
SEQUENCE:0
DTSTAMP:20260425T170514Z
DTSTART:20250912T130000Z
DTEND:20250912T144000Z
SUMMARY:Цифровые технологии перевода
LOCATION:9 к. 309
END:VEVENT
END:VCALENDAR