BEGIN:VCALENDAR
VERSION:2.0
PRODID:-//spbstu.ru//ical//RU
NAME:Расписание группы 3834502/20201
X-WR-CALNAME:Расписание группы 3834502/20201
TIMEZONE-ID:Europe/Moscow
X-WR-TIMEZONE:Europe/Moscow
BEGIN:VEVENT
UID:ddz4@192.168.245.71:3006
SEQUENCE:0
DTSTAMP:20260421T051614Z
DTSTART:20260413T110000Z
DTEND:20260413T124000Z
SUMMARY:Практикум по культуре речевого общения второго иностранного языка 
 (французский язык)
LOCATION:9 к. 127
END:VEVENT
BEGIN:VEVENT
UID:ntm7@192.168.245.71:3006
SEQUENCE:0
DTSTAMP:20260421T051614Z
DTSTART:20260414T070000Z
DTEND:20260414T084000Z
SUMMARY:Практикум по устному переводу
LOCATION:6 к. 15
END:VEVENT
BEGIN:VEVENT
UID:uvl5@192.168.245.71:3006
SEQUENCE:0
DTSTAMP:20260421T051614Z
DTSTART:20260414T070000Z
DTEND:20260414T084000Z
SUMMARY:Практикум по культуре речевого общения первого иностранного языка
LOCATION:6 к. 18
END:VEVENT
BEGIN:VEVENT
UID:vfqj@192.168.245.71:3006
SEQUENCE:0
DTSTAMP:20260421T051614Z
DTSTART:20260414T090000Z
DTEND:20260414T104000Z
SUMMARY:Практикум по культуре речевого общения второго иностранного языка 
 (немецкий язык)
LOCATION:9 к. 241
END:VEVENT
BEGIN:VEVENT
UID:1s16@192.168.245.71:3006
SEQUENCE:0
DTSTAMP:20260421T051614Z
DTSTART:20260414T110000Z
DTEND:20260414T124000Z
SUMMARY:Практикум по культуре речевого общения второго иностранного языка 
 (испанский язык)
LOCATION:9 к. 217
END:VEVENT
BEGIN:VEVENT
UID:so0a@192.168.245.71:3006
SEQUENCE:0
DTSTAMP:20260421T051614Z
DTSTART:20260415T090000Z
DTEND:20260415T104000Z
SUMMARY:Медиалингвистика
LOCATION:9 к. 323
END:VEVENT
BEGIN:VEVENT
UID:pr2z@192.168.245.71:3006
SEQUENCE:0
DTSTAMP:20260421T051614Z
DTSTART:20260415T130000Z
DTEND:20260415T144000Z
SUMMARY:Прагматические аспекты перевода
LOCATION:6 к. 18
END:VEVENT
BEGIN:VEVENT
UID:hfk2@192.168.245.71:3006
SEQUENCE:0
DTSTAMP:20260421T051614Z
DTSTART:20260416T130000Z
DTEND:20260416T144000Z
SUMMARY:Практикум по культуре речевого общения первого иностранного языка
LOCATION:6 к. 18
END:VEVENT
BEGIN:VEVENT
UID:e8ox@192.168.245.71:3006
SEQUENCE:0
DTSTAMP:20260421T051614Z
DTSTART:20260417T050000Z
DTEND:20260417T064000Z
SUMMARY:Стилистический анализ текста (английский язык)
LOCATION:9 к. 415
END:VEVENT
BEGIN:VEVENT
UID:n5uc@192.168.245.71:3006
SEQUENCE:0
DTSTAMP:20260421T051614Z
DTSTART:20260417T070000Z
DTEND:20260417T084000Z
SUMMARY:Практикум по культуре речевого общения второго иностранного языка 
 (китайский язык)
LOCATION:9 к. 129
END:VEVENT
END:VCALENDAR