BEGIN:VCALENDAR
VERSION:2.0
PRODID:-//spbstu.ru//ical//RU
NAME:Расписание группы 3834504/20101
X-WR-CALNAME:Расписание группы 3834504/20101
TIMEZONE-ID:Europe/Moscow
X-WR-TIMEZONE:Europe/Moscow
BEGIN:VEVENT
UID:9vps@192.168.245.71:3006
SEQUENCE:0
DTSTAMP:20260424T051718Z
DTSTART:20251103T130000Z
DTEND:20251103T144000Z
SUMMARY:Практикум по культуре речевого общения второго иностранного языка 
 (немецкий язык)
LOCATION:9 к. 208
END:VEVENT
BEGIN:VEVENT
UID:7np1@192.168.245.71:3006
SEQUENCE:0
DTSTAMP:20260424T051718Z
DTSTART:20251103T130000Z
DTEND:20251103T144000Z
SUMMARY:Практикум по культуре речевого общения второго иностранного языка 
 (китайский язык)
LOCATION:9 к. 129
END:VEVENT
BEGIN:VEVENT
UID:5r6p@192.168.245.71:3006
SEQUENCE:0
DTSTAMP:20260424T051718Z
DTSTART:20251105T140000Z
DTEND:20251105T144000Z
SUMMARY:Основы Web программирования
LOCATION:9 к. 309
END:VEVENT
BEGIN:VEVENT
UID:0nc1@192.168.245.71:3006
SEQUENCE:0
DTSTAMP:20260424T051718Z
DTSTART:20251105T150000Z
DTEND:20251105T164000Z
SUMMARY:Основы Web программирования
LOCATION:9 к. 309
END:VEVENT
BEGIN:VEVENT
UID:s061@192.168.245.71:3006
SEQUENCE:0
DTSTAMP:20260424T051718Z
DTSTART:20251106T130000Z
DTEND:20251106T144000Z
SUMMARY:Практикум по культуре речевого общения второго иностранного языка 
 (испанский язык)
LOCATION:9 к. 208
END:VEVENT
BEGIN:VEVENT
UID:g0qe@192.168.245.71:3006
SEQUENCE:0
DTSTAMP:20260424T051718Z
DTSTART:20251107T070000Z
DTEND:20251107T084000Z
SUMMARY:Когнитивная лингвистика и лингвистическая семантика
LOCATION:9 к. 129
END:VEVENT
BEGIN:VEVENT
UID:u33p@192.168.245.71:3006
SEQUENCE:0
DTSTAMP:20260424T051718Z
DTSTART:20251107T090000Z
DTEND:20251107T104000Z
SUMMARY:Основы Web программирования
LOCATION:9 к. 309
END:VEVENT
BEGIN:VEVENT
UID:b16z@192.168.245.71:3006
SEQUENCE:0
DTSTAMP:20260424T051718Z
DTSTART:20251107T110000Z
DTEND:20251107T124000Z
SUMMARY:Основы психолингвистики
LOCATION:9 к. 333
END:VEVENT
END:VCALENDAR