BEGIN:VCALENDAR
VERSION:2.0
PRODID:-//spbstu.ru//ical//RU
NAME:Расписание группы 3834504/20101
X-WR-CALNAME:Расписание группы 3834504/20101
TIMEZONE-ID:Europe/Moscow
X-WR-TIMEZONE:Europe/Moscow
BEGIN:VEVENT
UID:pn4t@192.168.245.71:3006
SEQUENCE:0
DTSTAMP:20260424T135500Z
DTSTART:20250929T130000Z
DTEND:20250929T144000Z
SUMMARY:Практикум по культуре речевого общения второго иностранного языка 
 (немецкий язык)
LOCATION:9 к. 208
END:VEVENT
BEGIN:VEVENT
UID:q2kt@192.168.245.71:3006
SEQUENCE:0
DTSTAMP:20260424T135500Z
DTSTART:20250929T130000Z
DTEND:20250929T144000Z
SUMMARY:Практикум по культуре речевого общения второго иностранного языка 
 (китайский язык)
LOCATION:9 к. 129
END:VEVENT
BEGIN:VEVENT
UID:ggv9@192.168.245.71:3006
SEQUENCE:0
DTSTAMP:20260424T135500Z
DTSTART:20250930T070000Z
DTEND:20250930T084000Z
SUMMARY:Стратегии профессионально-ориентированного иноязычного дискурса
LOCATION:9 к. 210
END:VEVENT
BEGIN:VEVENT
UID:c9z6@192.168.245.71:3006
SEQUENCE:0
DTSTAMP:20260424T135500Z
DTSTART:20250930T090000Z
DTEND:20250930T104000Z
SUMMARY:Практикум по культуре речевого общения второго иностранного языка 
 (немецкий язык)
LOCATION:9 к. 415
END:VEVENT
BEGIN:VEVENT
UID:k85d@192.168.245.71:3006
SEQUENCE:0
DTSTAMP:20260424T135500Z
DTSTART:20250930T090000Z
DTEND:20250930T104000Z
SUMMARY:Практикум по культуре речевого общения второго иностранного языка 
 (испанский язык)
LOCATION:9 к. 326
END:VEVENT
BEGIN:VEVENT
UID:e0kk@192.168.245.71:3006
SEQUENCE:0
DTSTAMP:20260424T135500Z
DTSTART:20250930T110000Z
DTEND:20250930T124000Z
SUMMARY:Стратегии профессионально-ориентированного иноязычного дискурса
LOCATION:9 к. 210
END:VEVENT
BEGIN:VEVENT
UID:ci1j@192.168.245.71:3006
SEQUENCE:0
DTSTAMP:20260424T135500Z
DTSTART:20250930T130000Z
DTEND:20250930T144000Z
SUMMARY:Практикум по культуре речевого общения второго иностранного языка 
 (китайский язык)
LOCATION:9 к. 129
END:VEVENT
BEGIN:VEVENT
UID:awnj@192.168.245.71:3006
SEQUENCE:0
DTSTAMP:20260424T135500Z
DTSTART:20251002T070000Z
DTEND:20251002T084000Z
SUMMARY:Автоматическая обработка естественного языка
LOCATION:9 к. 210
END:VEVENT
BEGIN:VEVENT
UID:5768@192.168.245.71:3006
SEQUENCE:0
DTSTAMP:20260424T135500Z
DTSTART:20251002T090000Z
DTEND:20251002T104000Z
SUMMARY:Когнитивная лингвистика и лингвистическая семантика
LOCATION:9 к. 212
END:VEVENT
BEGIN:VEVENT
UID:vfy6@192.168.245.71:3006
SEQUENCE:0
DTSTAMP:20260424T135500Z
DTSTART:20251002T110000Z
DTEND:20251002T124000Z
SUMMARY:Стратегии профессионально-ориентированного иноязычного дискурса
LOCATION:9 к. 210
END:VEVENT
BEGIN:VEVENT
UID:x16d@192.168.245.71:3006
SEQUENCE:0
DTSTAMP:20260424T135500Z
DTSTART:20251003T070000Z
DTEND:20251003T084000Z
SUMMARY:Автоматическая обработка естественного языка
LOCATION:9 к. 117
END:VEVENT
BEGIN:VEVENT
UID:1c19@192.168.245.71:3006
SEQUENCE:0
DTSTAMP:20260424T135500Z
DTSTART:20251003T090000Z
DTEND:20251003T104000Z
SUMMARY:Стратегии профессионально-ориентированного иноязычного дискурса
LOCATION:9 к. 210
END:VEVENT
BEGIN:VEVENT
UID:iolo@192.168.245.71:3006
SEQUENCE:0
DTSTAMP:20260424T135500Z
DTSTART:20251003T110000Z
DTEND:20251003T124000Z
SUMMARY:Основы психолингвистики
LOCATION:9 к. 313
END:VEVENT
BEGIN:VEVENT
UID:d7wi@192.168.245.71:3006
SEQUENCE:0
DTSTAMP:20260424T135500Z
DTSTART:20251003T130000Z
DTEND:20251003T144000Z
SUMMARY:Практикум по культуре речевого общения второго иностранного языка 
 (испанский язык)
LOCATION:9 к. 313
END:VEVENT
END:VCALENDAR