BEGIN:VCALENDAR
VERSION:2.0
PRODID:-//spbstu.ru//ical//RU
NAME:Расписание группы 3834504/20101
X-WR-CALNAME:Расписание группы 3834504/20101
TIMEZONE-ID:Europe/Moscow
X-WR-TIMEZONE:Europe/Moscow
BEGIN:VEVENT
UID:yu2s@192.168.245.71:3006
SEQUENCE:0
DTSTAMP:20260421T032444Z
DTSTART:20260421T090000Z
DTEND:20260421T104000Z
SUMMARY:Практикум по культуре речевого общения второго иностранного языка 
 (китайский язык)
LOCATION:9 к. 129
END:VEVENT
BEGIN:VEVENT
UID:zbnl@192.168.245.71:3006
SEQUENCE:0
DTSTAMP:20260421T032444Z
DTSTART:20260421T090000Z
DTEND:20260421T104000Z
SUMMARY:Практикум по культуре речевого общения второго иностранного языка 
 (немецкий язык)
LOCATION:9 к. 241
END:VEVENT
BEGIN:VEVENT
UID:rbfd@192.168.245.71:3006
SEQUENCE:0
DTSTAMP:20260421T032444Z
DTSTART:20260421T090000Z
DTEND:20260421T104000Z
SUMMARY:Практикум по культуре речевого общения второго иностранного языка 
 (испанский язык)
LOCATION:9 к. 217
END:VEVENT
BEGIN:VEVENT
UID:wksx@192.168.245.71:3006
SEQUENCE:0
DTSTAMP:20260421T032444Z
DTSTART:20260424T070000Z
DTEND:20260424T084000Z
SUMMARY:Стратегии профессионально-ориентированного иноязычного дискурса
LOCATION:9 к. 319
END:VEVENT
BEGIN:VEVENT
UID:503h@192.168.245.71:3006
SEQUENCE:0
DTSTAMP:20260421T032444Z
DTSTART:20260424T090000Z
DTEND:20260424T104000Z
SUMMARY:Автоматическая обработка естественного языка
LOCATION:9 к. 210
END:VEVENT
END:VCALENDAR