BEGIN:VCALENDAR
VERSION:2.0
PRODID:-//spbstu.ru//ical//RU
NAME:Расписание группы 3834504/20101
X-WR-CALNAME:Расписание группы 3834504/20101
TIMEZONE-ID:Europe/Moscow
X-WR-TIMEZONE:Europe/Moscow
BEGIN:VEVENT
UID:pclc@192.168.245.71:3006
SEQUENCE:0
DTSTAMP:20260421T070809Z
DTSTART:20260406T150000Z
DTEND:20260406T160000Z
SUMMARY:Практикум по культуре речевого общения второго иностранного языка 
 (китайский язык)
LOCATION:9 к. 323
END:VEVENT
BEGIN:VEVENT
UID:20bk@192.168.245.71:3006
SEQUENCE:0
DTSTAMP:20260421T070809Z
DTSTART:20260407T090000Z
DTEND:20260407T104000Z
SUMMARY:Практикум по культуре речевого общения второго иностранного языка 
 (китайский язык)
LOCATION:9 к. 129
END:VEVENT
BEGIN:VEVENT
UID:usau@192.168.245.71:3006
SEQUENCE:0
DTSTAMP:20260421T070809Z
DTSTART:20260407T090000Z
DTEND:20260407T104000Z
SUMMARY:Практикум по культуре речевого общения второго иностранного языка 
 (немецкий язык)
LOCATION:9 к. 241
END:VEVENT
BEGIN:VEVENT
UID:f3q7@192.168.245.71:3006
SEQUENCE:0
DTSTAMP:20260421T070809Z
DTSTART:20260407T090000Z
DTEND:20260407T104000Z
SUMMARY:Практикум по культуре речевого общения второго иностранного языка 
 (испанский язык)
LOCATION:9 к. 217
END:VEVENT
BEGIN:VEVENT
UID:i0cl@192.168.245.71:3006
SEQUENCE:0
DTSTAMP:20260421T070809Z
DTSTART:20260410T070000Z
DTEND:20260410T084000Z
SUMMARY:Стратегии профессионально-ориентированного иноязычного дискурса
LOCATION:9 к. 319
END:VEVENT
BEGIN:VEVENT
UID:cunh@192.168.245.71:3006
SEQUENCE:0
DTSTAMP:20260421T070809Z
DTSTART:20260410T090000Z
DTEND:20260410T104000Z
SUMMARY:Автоматическая обработка естественного языка
LOCATION:9 к. 210
END:VEVENT
END:VCALENDAR