BEGIN:VCALENDAR
VERSION:2.0
PRODID:-//spbstu.ru//ical//RU
NAME:Расписание группы 3854003/10201
X-WR-CALNAME:Расписание группы 3854003/10201
TIMEZONE-ID:Europe/Moscow
X-WR-TIMEZONE:Europe/Moscow
BEGIN:VEVENT
UID:ul98@192.168.245.71:3006
SEQUENCE:0
DTSTAMP:20260424T231818Z
DTSTART:20251117T070000Z
DTEND:20251117T084000Z
SUMMARY:Автотехническая экспертиза
LOCATION:9 к. 529
END:VEVENT
BEGIN:VEVENT
UID:7c32@192.168.245.71:3006
SEQUENCE:0
DTSTAMP:20260424T231818Z
DTSTART:20251117T090000Z
DTEND:20251117T104000Z
SUMMARY:Трудовое право
LOCATION:ГЗ 281
END:VEVENT
BEGIN:VEVENT
UID:nf94@192.168.245.71:3006
SEQUENCE:0
DTSTAMP:20260424T231818Z
DTSTART:20251117T110000Z
DTEND:20251117T124000Z
SUMMARY:Компьютерно-техническая экспертиза
LOCATION:9 к. 433
END:VEVENT
BEGIN:VEVENT
UID:duky@192.168.245.71:3006
SEQUENCE:0
DTSTAMP:20260424T231818Z
DTSTART:20251118T090000Z
DTEND:20251118T104000Z
SUMMARY:Автотехническая экспертиза
LOCATION:9 к. 529
END:VEVENT
BEGIN:VEVENT
UID:vzct@192.168.245.71:3006
SEQUENCE:0
DTSTAMP:20260424T231818Z
DTSTART:20251118T110000Z
DTEND:20251118T124000Z
SUMMARY:Автотехническая экспертиза
LOCATION:9 к. 529
END:VEVENT
BEGIN:VEVENT
UID:idzb@192.168.245.71:3006
SEQUENCE:0
DTSTAMP:20260424T231818Z
DTSTART:20251118T130000Z
DTEND:20251118T144000Z
SUMMARY:Правоохранительные органы
LOCATION:9 к. 319
END:VEVENT
BEGIN:VEVENT
UID:li5b@192.168.245.71:3006
SEQUENCE:0
DTSTAMP:20260424T231818Z
DTSTART:20251119T090000Z
DTEND:20251119T104000Z
SUMMARY:Экспертиза строительных конструкций
LOCATION:Мех. к. СМ №1
END:VEVENT
BEGIN:VEVENT
UID:9co2@192.168.245.71:3006
SEQUENCE:0
DTSTAMP:20260424T231818Z
DTSTART:20251119T110000Z
DTEND:20251119T124000Z
SUMMARY:Инженерно-техническая экспертиза строительных материалов
LOCATION:9 к. 328
END:VEVENT
BEGIN:VEVENT
UID:v3i6@192.168.245.71:3006
SEQUENCE:0
DTSTAMP:20260424T231818Z
DTSTART:20251119T130000Z
DTEND:20251119T144000Z
SUMMARY:Инженерно-техническая экспертиза строительных материалов
LOCATION:9 к. 328
END:VEVENT
BEGIN:VEVENT
UID:ki4q@192.168.245.71:3006
SEQUENCE:0
DTSTAMP:20260424T231818Z
DTSTART:20251121T070000Z
DTEND:20251121T084000Z
SUMMARY:Инженерно-техническая экспертиза строительных материалов
LOCATION:9 к. 328
END:VEVENT
BEGIN:VEVENT
UID:ca49@192.168.245.71:3006
SEQUENCE:0
DTSTAMP:20260424T231818Z
DTSTART:20251121T090000Z
DTEND:20251121T104000Z
SUMMARY:Правовые системы современных стран (на английском языке)
LOCATION:9 к. 328
END:VEVENT
BEGIN:VEVENT
UID:tnho@192.168.245.71:3006
SEQUENCE:0
DTSTAMP:20260424T231818Z
DTSTART:20251121T110000Z
DTEND:20251121T124000Z
SUMMARY:Техническая экспертиза металлов\, сплавов и изделий из них
LOCATION:9 к. 435
END:VEVENT
BEGIN:VEVENT
UID:08ne@192.168.245.71:3006
SEQUENCE:0
DTSTAMP:20260424T231818Z
DTSTART:20251121T130000Z
DTEND:20251121T144000Z
SUMMARY:Техническая экспертиза металлов\, сплавов и изделий из них
LOCATION:9 к. 435
END:VEVENT
END:VCALENDAR