BEGIN:VCALENDAR
VERSION:2.0
PRODID:-//spbstu.ru//ical//RU
NAME:Расписание группы в3834502/40001
X-WR-CALNAME:Расписание группы в3834502/40001
TIMEZONE-ID:Europe/Moscow
X-WR-TIMEZONE:Europe/Moscow
BEGIN:VEVENT
UID:q3pl@192.168.245.71:3006
SEQUENCE:0
DTSTAMP:20260424T160000Z
DTSTART:20251125T150000Z
DTEND:20251125T164000Z
SUMMARY:Практическая грамматика
LOCATION:9 к. 217
END:VEVENT
BEGIN:VEVENT
UID:oowp@192.168.245.71:3006
SEQUENCE:0
DTSTAMP:20260424T160000Z
DTSTART:20251125T170000Z
DTEND:20251125T184000Z
SUMMARY:Безопасность жизнедеятельности
LOCATION:9 к. 217
END:VEVENT
BEGIN:VEVENT
UID:c1at@192.168.245.71:3006
SEQUENCE:0
DTSTAMP:20260424T160000Z
DTSTART:20251127T150000Z
DTEND:20251127T164000Z
SUMMARY:Практический курс второго иностранного языка (испанский язык)
LOCATION:9 к. 208
END:VEVENT
END:VCALENDAR