BEGIN:VCALENDAR
VERSION:2.0
PRODID:-//spbstu.ru//ical//RU
NAME:Расписание группы в3834502/40001
X-WR-CALNAME:Расписание группы в3834502/40001
TIMEZONE-ID:Europe/Moscow
X-WR-TIMEZONE:Europe/Moscow
BEGIN:VEVENT
UID:nli5@192.168.245.71:3006
SEQUENCE:0
DTSTAMP:20260424T084450Z
DTSTART:20251209T150000Z
DTEND:20251209T164000Z
SUMMARY:Практическая грамматика
LOCATION:9 к. 217
END:VEVENT
BEGIN:VEVENT
UID:na7x@192.168.245.71:3006
SEQUENCE:0
DTSTAMP:20260424T084450Z
DTSTART:20251209T170000Z
DTEND:20251209T184000Z
SUMMARY:Практическая грамматика
LOCATION:9 к. 217
END:VEVENT
END:VCALENDAR