BEGIN:VCALENDAR
VERSION:2.0
PRODID:-//spbstu.ru//ical//RU
NAME:Расписание группы в3834502/40001
X-WR-CALNAME:Расписание группы в3834502/40001
TIMEZONE-ID:Europe/Moscow
X-WR-TIMEZONE:Europe/Moscow
BEGIN:VEVENT
UID:92zq@192.168.245.71:3006
SEQUENCE:0
DTSTAMP:20260423T151243Z
DTSTART:20260112T130000Z
DTEND:20260112T160000Z
SUMMARY:Возрастная и педагогическая психология
LOCATION:9 к. 208
END:VEVENT
BEGIN:VEVENT
UID:m0e0@192.168.245.71:3006
SEQUENCE:0
DTSTAMP:20260423T151243Z
DTSTART:20260114T130000Z
DTEND:20260114T160000Z
SUMMARY:Введение в языкознание
LOCATION:9 к. 208
END:VEVENT
BEGIN:VEVENT
UID:9h85@192.168.245.71:3006
SEQUENCE:0
DTSTAMP:20260423T151243Z
DTSTART:20260115T130000Z
DTEND:20260115T144000Z
SUMMARY:Письменная деловая коммуникация (на иностранном языке)
LOCATION:9 к. 208
END:VEVENT
BEGIN:VEVENT
UID:9xri@192.168.245.71:3006
SEQUENCE:0
DTSTAMP:20260423T151243Z
DTSTART:20260117T070000Z
DTEND:20260117T090000Z
SUMMARY:Письменная деловая коммуникация (на иностранном языке)
LOCATION:9 к. 208
END:VEVENT
END:VCALENDAR