BEGIN:VCALENDAR
VERSION:2.0
PRODID:-//spbstu.ru//ical//RU
NAME:Расписание группы в3834502/40001
X-WR-CALNAME:Расписание группы в3834502/40001
TIMEZONE-ID:Europe/Moscow
X-WR-TIMEZONE:Europe/Moscow
BEGIN:VEVENT
UID:za3u@192.168.245.71:3006
SEQUENCE:0
DTSTAMP:20260422T060152Z
DTSTART:20260402T150000Z
DTEND:20260402T160000Z
SUMMARY:Введение в языкознание
LOCATION:9 к. 325
END:VEVENT
BEGIN:VEVENT
UID:zncr@192.168.245.71:3006
SEQUENCE:0
DTSTAMP:20260422T060152Z
DTSTART:20260404T070000Z
DTEND:20260404T084000Z
SUMMARY:Практический курс второго иностранного языка (испанский язык)
LOCATION:9 к. 208
END:VEVENT
BEGIN:VEVENT
UID:tqh2@192.168.245.71:3006
SEQUENCE:0
DTSTAMP:20260422T060152Z
DTSTART:20260404T090000Z
DTEND:20260404T104000Z
SUMMARY:Практический курс второго иностранного языка (испанский язык)
LOCATION:9 к. 208
END:VEVENT
BEGIN:VEVENT
UID:afxa@192.168.245.71:3006
SEQUENCE:0
DTSTAMP:20260422T060152Z
DTSTART:20260404T110000Z
DTEND:20260404T124000Z
SUMMARY:Психология общения
LOCATION:9 к. 208
END:VEVENT
END:VCALENDAR