BEGIN:VCALENDAR
VERSION:2.0
PRODID:-//spbstu.ru//ical//RU
NAME:Расписание группы 4731204/50003
X-WR-CALNAME:Расписание группы 4731204/50003
TIMEZONE-ID:Europe/Moscow
X-WR-TIMEZONE:Europe/Moscow
BEGIN:VEVENT
UID:a0g9@192.168.245.71:3006
SEQUENCE:0
DTSTAMP:20260422T161314Z
DTSTART:20251215T070000Z
DTEND:20251215T084000Z
SUMMARY:История России
LOCATION:ГЗ 329
END:VEVENT
BEGIN:VEVENT
UID:6w0p@192.168.245.71:3006
SEQUENCE:0
DTSTAMP:20260422T161314Z
DTSTART:20251215T090000Z
DTEND:20251215T104000Z
SUMMARY:Высшая математика
LOCATION:ГЗ 222
END:VEVENT
BEGIN:VEVENT
UID:t2ig@192.168.245.71:3006
SEQUENCE:0
DTSTAMP:20260422T161314Z
DTSTART:20251215T110000Z
DTEND:20251215T124000Z
SUMMARY:История России
LOCATION:ГЗ 220
END:VEVENT
BEGIN:VEVENT
UID:4s47@192.168.245.71:3006
SEQUENCE:0
DTSTAMP:20260422T161314Z
DTSTART:20251215T130000Z
DTEND:20251215T144000Z
SUMMARY:Введение в профессиональную деятельность
LOCATION:5 к. 209 МФ
END:VEVENT
BEGIN:VEVENT
UID:tukc@192.168.245.71:3006
SEQUENCE:0
DTSTAMP:20260422T161314Z
DTSTART:20251216T090000Z
DTEND:20251216T104000Z
SUMMARY:Иностранный язык: Базовый курс
LOCATION:5 к. 102
END:VEVENT
BEGIN:VEVENT
UID:rmpl@192.168.245.71:3006
SEQUENCE:0
DTSTAMP:20260422T161314Z
DTSTART:20251216T110000Z
DTEND:20251216T124000Z
SUMMARY:Основы российской государственности
LOCATION:5 к. 104
END:VEVENT
BEGIN:VEVENT
UID:2jyg@192.168.245.71:3006
SEQUENCE:0
DTSTAMP:20260422T161314Z
DTSTART:20251216T130000Z
DTEND:20251216T144000Z
SUMMARY:Химия
LOCATION:ГЗ 224
END:VEVENT
BEGIN:VEVENT
UID:qtf6@192.168.245.71:3006
SEQUENCE:0
DTSTAMP:20260422T161314Z
DTSTART:20251217T070000Z
DTEND:20251217T084000Z
SUMMARY:Физическая культура
LOCATION:5 к. 101
END:VEVENT
BEGIN:VEVENT
UID:x66g@192.168.245.71:3006
SEQUENCE:0
DTSTAMP:20260422T161314Z
DTSTART:20251217T090000Z
DTEND:20251217T113000Z
SUMMARY:Иностранный язык: Базовый курс
LOCATION:5 к. 101
END:VEVENT
BEGIN:VEVENT
UID:jkly@192.168.245.71:3006
SEQUENCE:0
DTSTAMP:20260422T161314Z
DTSTART:20251218T120000Z
DTEND:20251218T152000Z
SUMMARY:Основы цифровых технологий
LOCATION:5 к. 204 МФ
END:VEVENT
BEGIN:VEVENT
UID:r10e@192.168.245.71:3006
SEQUENCE:0
DTSTAMP:20260422T161314Z
DTSTART:20251219T070000Z
DTEND:20251219T085000Z
SUMMARY:Элективная физическая культура и спорт
LOCATION:СК Секции
END:VEVENT
BEGIN:VEVENT
UID:4dlk@192.168.245.71:3006
SEQUENCE:0
DTSTAMP:20260422T161314Z
DTSTART:20251220T070000Z
DTEND:20251220T084000Z
SUMMARY:Физические основы биологии
LOCATION:5 к. 104
END:VEVENT
BEGIN:VEVENT
UID:5mz6@192.168.245.71:3006
SEQUENCE:0
DTSTAMP:20260422T161314Z
DTSTART:20251220T130000Z
DTEND:20251220T144000Z
SUMMARY:Инженерная графика
LOCATION:5 к. 206 МФ
END:VEVENT
END:VCALENDAR