BEGIN:VCALENDAR
VERSION:2.0
PRODID:-//spbstu.ru//ical//RU
NAME:Расписание группы 4731204/50003
X-WR-CALNAME:Расписание группы 4731204/50003
TIMEZONE-ID:Europe/Moscow
X-WR-TIMEZONE:Europe/Moscow
BEGIN:VEVENT
UID:braw@192.168.245.71:3006
SEQUENCE:0
DTSTAMP:20260420T210745Z
DTSTART:20260413T070000Z
DTEND:20260413T084000Z
SUMMARY:История России
LOCATION:ГЗ 329
END:VEVENT
BEGIN:VEVENT
UID:99vk@192.168.245.71:3006
SEQUENCE:0
DTSTAMP:20260420T210745Z
DTSTART:20260413T090000Z
DTEND:20260413T104000Z
SUMMARY:Физика
LOCATION:ГЗ 283
END:VEVENT
BEGIN:VEVENT
UID:h2j7@192.168.245.71:3006
SEQUENCE:0
DTSTAMP:20260420T210745Z
DTSTART:20260413T110000Z
DTEND:20260413T124000Z
SUMMARY:История России
LOCATION:ГЗ 226
END:VEVENT
BEGIN:VEVENT
UID:itvd@192.168.245.71:3006
SEQUENCE:0
DTSTAMP:20260420T210745Z
DTSTART:20260413T130000Z
DTEND:20260413T144000Z
SUMMARY:Философия
LOCATION:ГЗ 220
END:VEVENT
BEGIN:VEVENT
UID:nmh7@192.168.245.71:3006
SEQUENCE:0
DTSTAMP:20260420T210745Z
DTSTART:20260414T070000Z
DTEND:20260414T084000Z
SUMMARY:Элективная физическая культура и спорт
LOCATION:СК Секции
END:VEVENT
BEGIN:VEVENT
UID:8sso@192.168.245.71:3006
SEQUENCE:0
DTSTAMP:20260420T210745Z
DTSTART:20260414T090000Z
DTEND:20260414T104000Z
SUMMARY:Органическая химия
LOCATION:5 к. 209 МФ
END:VEVENT
BEGIN:VEVENT
UID:nuan@192.168.245.71:3006
SEQUENCE:0
DTSTAMP:20260420T210745Z
DTSTART:20260415T090000Z
DTEND:20260415T104000Z
SUMMARY:Физика
LOCATION:ГЗ 284
END:VEVENT
BEGIN:VEVENT
UID:kwyu@192.168.245.71:3006
SEQUENCE:0
DTSTAMP:20260420T210745Z
DTSTART:20260415T110000Z
DTEND:20260415T143000Z
SUMMARY:Информатика
LOCATION:5 к. 206 МФ
END:VEVENT
BEGIN:VEVENT
UID:ojff@192.168.245.71:3006
SEQUENCE:0
DTSTAMP:20260420T210745Z
DTSTART:20260416T070000Z
DTEND:20260416T084000Z
SUMMARY:Основы физической химии
LOCATION:ГЗ 305
END:VEVENT
BEGIN:VEVENT
UID:25p6@192.168.245.71:3006
SEQUENCE:0
DTSTAMP:20260420T210745Z
DTSTART:20260416T090000Z
DTEND:20260416T104000Z
SUMMARY:Высшая математика
LOCATION:ГЗ 284
END:VEVENT
BEGIN:VEVENT
UID:osxb@192.168.245.71:3006
SEQUENCE:0
DTSTAMP:20260420T210745Z
DTSTART:20260416T110000Z
DTEND:20260416T124000Z
SUMMARY:Иностранный язык: Базовый курс
LOCATION:ГЗ 223
END:VEVENT
BEGIN:VEVENT
UID:r066@192.168.245.71:3006
SEQUENCE:0
DTSTAMP:20260420T210745Z
DTSTART:20260417T050000Z
DTEND:20260417T064000Z
SUMMARY:Элективная физическая культура и спорт
LOCATION:СК Секции
END:VEVENT
BEGIN:VEVENT
UID:67td@192.168.245.71:3006
SEQUENCE:0
DTSTAMP:20260420T210745Z
DTSTART:20260417T070000Z
DTEND:20260417T084000Z
SUMMARY:Физика
LOCATION:5 к. 102
END:VEVENT
BEGIN:VEVENT
UID:npo0@192.168.245.71:3006
SEQUENCE:0
DTSTAMP:20260420T210745Z
DTSTART:20260417T090000Z
DTEND:20260417T104000Z
SUMMARY:Высшая математика
LOCATION:5 к. 101
END:VEVENT
BEGIN:VEVENT
UID:bdtm@192.168.245.71:3006
SEQUENCE:0
DTSTAMP:20260420T210745Z
DTSTART:20260418T070000Z
DTEND:20260418T085000Z
SUMMARY:Программирование на языке Python
LOCATION:5 к. 206 МФ
END:VEVENT
BEGIN:VEVENT
UID:90gj@192.168.245.71:3006
SEQUENCE:0
DTSTAMP:20260420T210745Z
DTSTART:20260418T090000Z
DTEND:20260418T104000Z
SUMMARY:Физические основы биологии
LOCATION:5 к. 206 МФ
END:VEVENT
BEGIN:VEVENT
UID:r1g0@192.168.245.71:3006
SEQUENCE:0
DTSTAMP:20260420T210745Z
DTSTART:20260418T110000Z
DTEND:20260418T125000Z
SUMMARY:Программирование на языке Python
LOCATION:5 к. 206 МФ
END:VEVENT
END:VCALENDAR