BEGIN:VCALENDAR
VERSION:2.0
PRODID:-//spbstu.ru//ical//RU
NAME:Расписание группы 4731204/50003
X-WR-CALNAME:Расписание группы 4731204/50003
TIMEZONE-ID:Europe/Moscow
X-WR-TIMEZONE:Europe/Moscow
BEGIN:VEVENT
UID:dbba@192.168.245.71:3006
SEQUENCE:0
DTSTAMP:20260420T225142Z
DTSTART:20260406T090000Z
DTEND:20260406T104000Z
SUMMARY:Физика
LOCATION:ГЗ 283
END:VEVENT
BEGIN:VEVENT
UID:2tw4@192.168.245.71:3006
SEQUENCE:0
DTSTAMP:20260420T225142Z
DTSTART:20260406T110000Z
DTEND:20260406T124000Z
SUMMARY:История России
LOCATION:ГЗ 226
END:VEVENT
BEGIN:VEVENT
UID:lqa6@192.168.245.71:3006
SEQUENCE:0
DTSTAMP:20260420T225142Z
DTSTART:20260406T130000Z
DTEND:20260406T144000Z
SUMMARY:Инженерная графика
LOCATION:ГЗ 257
END:VEVENT
BEGIN:VEVENT
UID:qhpb@192.168.245.71:3006
SEQUENCE:0
DTSTAMP:20260420T225142Z
DTSTART:20260407T070000Z
DTEND:20260407T084000Z
SUMMARY:Элективная физическая культура и спорт
LOCATION:СК Секции
END:VEVENT
BEGIN:VEVENT
UID:q6pq@192.168.245.71:3006
SEQUENCE:0
DTSTAMP:20260420T225142Z
DTSTART:20260407T090000Z
DTEND:20260407T104000Z
SUMMARY:Органическая химия
LOCATION:5 к. 209 МФ
END:VEVENT
BEGIN:VEVENT
UID:0m3t@192.168.245.71:3006
SEQUENCE:0
DTSTAMP:20260420T225142Z
DTSTART:20260407T110000Z
DTEND:20260407T124000Z
SUMMARY:Органическая химия
LOCATION:5 к. 206 МФ
END:VEVENT
BEGIN:VEVENT
UID:nd70@192.168.245.71:3006
SEQUENCE:0
DTSTAMP:20260420T225142Z
DTSTART:20260407T110000Z
DTEND:20260407T124000Z
SUMMARY:Органическая химия
LOCATION:5 к. 206 МФ
END:VEVENT
BEGIN:VEVENT
UID:c246@192.168.245.71:3006
SEQUENCE:0
DTSTAMP:20260420T225142Z
DTSTART:20260407T130000Z
DTEND:20260407T144000Z
SUMMARY:Органическая химия
LOCATION:5 к. 305 МФ
END:VEVENT
BEGIN:VEVENT
UID:x75t@192.168.245.71:3006
SEQUENCE:0
DTSTAMP:20260420T225142Z
DTSTART:20260407T130000Z
DTEND:20260407T144000Z
SUMMARY:Органическая химия
LOCATION:5 к. 305 МФ
END:VEVENT
BEGIN:VEVENT
UID:3awb@192.168.245.71:3006
SEQUENCE:0
DTSTAMP:20260420T225142Z
DTSTART:20260408T070000Z
DTEND:20260408T084000Z
SUMMARY:Основы физической химии
LOCATION:5 к. 104
END:VEVENT
BEGIN:VEVENT
UID:jns5@192.168.245.71:3006
SEQUENCE:0
DTSTAMP:20260420T225142Z
DTSTART:20260408T090000Z
DTEND:20260408T104000Z
SUMMARY:Физика
LOCATION:ГЗ 155
END:VEVENT
BEGIN:VEVENT
UID:ergp@192.168.245.71:3006
SEQUENCE:0
DTSTAMP:20260420T225142Z
DTSTART:20260408T090000Z
DTEND:20260408T104000Z
SUMMARY:Физика
LOCATION:ГЗ 155
END:VEVENT
BEGIN:VEVENT
UID:jk4t@192.168.245.71:3006
SEQUENCE:0
DTSTAMP:20260420T225142Z
DTSTART:20260408T110000Z
DTEND:20260408T143000Z
SUMMARY:Информатика
LOCATION:5 к. 206 МФ
END:VEVENT
BEGIN:VEVENT
UID:wzox@192.168.245.71:3006
SEQUENCE:0
DTSTAMP:20260420T225142Z
DTSTART:20260409T070000Z
DTEND:20260409T084000Z
SUMMARY:Основы физической химии
LOCATION:ГЗ 305
END:VEVENT
BEGIN:VEVENT
UID:1731@192.168.245.71:3006
SEQUENCE:0
DTSTAMP:20260420T225142Z
DTSTART:20260409T090000Z
DTEND:20260409T104000Z
SUMMARY:Высшая математика
LOCATION:ГЗ 284
END:VEVENT
BEGIN:VEVENT
UID:j7ww@192.168.245.71:3006
SEQUENCE:0
DTSTAMP:20260420T225142Z
DTSTART:20260409T110000Z
DTEND:20260409T124000Z
SUMMARY:Иностранный язык: Базовый курс
LOCATION:ГЗ 223
END:VEVENT
BEGIN:VEVENT
UID:hxos@192.168.245.71:3006
SEQUENCE:0
DTSTAMP:20260420T225142Z
DTSTART:20260410T050000Z
DTEND:20260410T064000Z
SUMMARY:Элективная физическая культура и спорт
LOCATION:СК Секции
END:VEVENT
BEGIN:VEVENT
UID:0yah@192.168.245.71:3006
SEQUENCE:0
DTSTAMP:20260420T225142Z
DTSTART:20260410T070000Z
DTEND:20260410T084000Z
SUMMARY:Физика
LOCATION:5 к. 102
END:VEVENT
BEGIN:VEVENT
UID:maum@192.168.245.71:3006
SEQUENCE:0
DTSTAMP:20260420T225142Z
DTSTART:20260410T090000Z
DTEND:20260410T104000Z
SUMMARY:Высшая математика
LOCATION:5 к. 101
END:VEVENT
BEGIN:VEVENT
UID:p4ss@192.168.245.71:3006
SEQUENCE:0
DTSTAMP:20260420T225142Z
DTSTART:20260410T113000Z
DTEND:20260410T131000Z
SUMMARY:Экономическая культура
LOCATION:5 к. 104
END:VEVENT
BEGIN:VEVENT
UID:77rw@192.168.245.71:3006
SEQUENCE:0
DTSTAMP:20260420T225142Z
DTSTART:20260411T080000Z
DTEND:20260411T112000Z
SUMMARY:Инженерная графика
LOCATION:5 к. 206 МФ
END:VEVENT
BEGIN:VEVENT
UID:tox7@192.168.245.71:3006
SEQUENCE:0
DTSTAMP:20260420T225142Z
DTSTART:20260411T114000Z
DTEND:20260411T150000Z
SUMMARY:Инженерная графика
LOCATION:5 к. 206 МФ
END:VEVENT
END:VCALENDAR