BEGIN:VCALENDAR
VERSION:2.0
PRODID:-//spbstu.ru//ical//RU
NAME:Расписание группы 4731903/50001
X-WR-CALNAME:Расписание группы 4731903/50001
TIMEZONE-ID:Europe/Moscow
X-WR-TIMEZONE:Europe/Moscow
BEGIN:VEVENT
UID:vqct@192.168.245.71:3006
SEQUENCE:0
DTSTAMP:20260424T023018Z
DTSTART:20251110T090000Z
DTEND:20251110T104000Z
SUMMARY:Высшая математика
LOCATION:48 уч.к 410
END:VEVENT
BEGIN:VEVENT
UID:l91t@192.168.245.71:3006
SEQUENCE:0
DTSTAMP:20260424T023018Z
DTSTART:20251110T110000Z
DTEND:20251110T124000Z
SUMMARY:Химия
LOCATION:48 уч.к 410
END:VEVENT
BEGIN:VEVENT
UID:3qz3@192.168.245.71:3006
SEQUENCE:0
DTSTAMP:20260424T023018Z
DTSTART:20251110T130000Z
DTEND:20251110T144000Z
SUMMARY:Инженерная графика
LOCATION:48 уч.к 410
END:VEVENT
BEGIN:VEVENT
UID:4y2b@192.168.245.71:3006
SEQUENCE:0
DTSTAMP:20260424T023018Z
DTSTART:20251111T070000Z
DTEND:20251111T084000Z
SUMMARY:Элективная  физическая культура и спорт
LOCATION:СК Спортивный зал
END:VEVENT
BEGIN:VEVENT
UID:k4hk@192.168.245.71:3006
SEQUENCE:0
DTSTAMP:20260424T023018Z
DTSTART:20251111T090000Z
DTEND:20251111T104000Z
SUMMARY:Химия
LOCATION:48 уч.к 401
END:VEVENT
BEGIN:VEVENT
UID:r06f@192.168.245.71:3006
SEQUENCE:0
DTSTAMP:20260424T023018Z
DTSTART:20251112T050000Z
DTEND:20251112T064000Z
SUMMARY:Иностранный язык: Русский язык как иностранный
LOCATION:9 к. 212
END:VEVENT
BEGIN:VEVENT
UID:ey6v@192.168.245.71:3006
SEQUENCE:0
DTSTAMP:20260424T023018Z
DTSTART:20251112T070000Z
DTEND:20251112T084000Z
SUMMARY:Факультатив по физике
LOCATION:48 уч.к 410
END:VEVENT
BEGIN:VEVENT
UID:eesn@192.168.245.71:3006
SEQUENCE:0
DTSTAMP:20260424T023018Z
DTSTART:20251112T090000Z
DTEND:20251112T104000Z
SUMMARY:Введение в профессиональную деятельность
LOCATION:48 уч.к 201
END:VEVENT
BEGIN:VEVENT
UID:s3ua@192.168.245.71:3006
SEQUENCE:0
DTSTAMP:20260424T023018Z
DTSTART:20251112T110000Z
DTEND:20251112T124000Z
SUMMARY:Высшая математика
LOCATION:48 уч.к 403
END:VEVENT
BEGIN:VEVENT
UID:ev1v@192.168.245.71:3006
SEQUENCE:0
DTSTAMP:20260424T023018Z
DTSTART:20251112T130000Z
DTEND:20251112T144000Z
SUMMARY:История России
LOCATION:48 уч.к 301
END:VEVENT
BEGIN:VEVENT
UID:2qaj@192.168.245.71:3006
SEQUENCE:0
DTSTAMP:20260424T023018Z
DTSTART:20251113T050000Z
DTEND:20251113T064000Z
SUMMARY:Иностранный язык: Русский язык как иностранный
LOCATION:9 к. 212
END:VEVENT
BEGIN:VEVENT
UID:vb3h@192.168.245.71:3006
SEQUENCE:0
DTSTAMP:20260424T023018Z
DTSTART:20251113T090000Z
DTEND:20251113T104000Z
SUMMARY:Иностранный язык: Базовый курс
LOCATION:48 уч.к 416
END:VEVENT
BEGIN:VEVENT
UID:b2wn@192.168.245.71:3006
SEQUENCE:0
DTSTAMP:20260424T023018Z
DTSTART:20251113T110000Z
DTEND:20251113T124000Z
SUMMARY:Основы российской государственности
LOCATION:48 уч.к 504
END:VEVENT
BEGIN:VEVENT
UID:ecck@192.168.245.71:3006
SEQUENCE:0
DTSTAMP:20260424T023018Z
DTSTART:20251114T050000Z
DTEND:20251114T064000Z
SUMMARY:Элективная  физическая культура и спорт
LOCATION:СК Спортивный зал
END:VEVENT
BEGIN:VEVENT
UID:6cvu@192.168.245.71:3006
SEQUENCE:0
DTSTAMP:20260424T023018Z
DTSTART:20251114T070000Z
DTEND:20251114T084000Z
SUMMARY:Химия
LOCATION:48 уч.к 219
END:VEVENT
BEGIN:VEVENT
UID:7uzo@192.168.245.71:3006
SEQUENCE:0
DTSTAMP:20260424T023018Z
DTSTART:20251114T090000Z
DTEND:20251114T104000Z
SUMMARY:Химия
LOCATION:48 уч.к 219
END:VEVENT
BEGIN:VEVENT
UID:0o2s@192.168.245.71:3006
SEQUENCE:0
DTSTAMP:20260424T023018Z
DTSTART:20251114T110000Z
DTEND:20251114T124000Z
SUMMARY:Инженерная графика
LOCATION:48 уч.к 205
END:VEVENT
BEGIN:VEVENT
UID:e0t6@192.168.245.71:3006
SEQUENCE:0
DTSTAMP:20260424T023018Z
DTSTART:20251115T060000Z
DTEND:20251115T074000Z
SUMMARY:Основы российской государственности
LOCATION:DL Дистанционно
END:VEVENT
END:VCALENDAR