BEGIN:VCALENDAR
VERSION:2.0
PRODID:-//spbstu.ru//ical//RU
NAME:Расписание группы 4731903/50001
X-WR-CALNAME:Расписание группы 4731903/50001
TIMEZONE-ID:Europe/Moscow
X-WR-TIMEZONE:Europe/Moscow
BEGIN:VEVENT
UID:as8n@192.168.245.71:3006
SEQUENCE:0
DTSTAMP:20260424T184257Z
DTSTART:20250929T090000Z
DTEND:20250929T104000Z
SUMMARY:Высшая математика
LOCATION:48 уч.к 410
END:VEVENT
BEGIN:VEVENT
UID:53dr@192.168.245.71:3006
SEQUENCE:0
DTSTAMP:20260424T184257Z
DTSTART:20250929T110000Z
DTEND:20250929T124000Z
SUMMARY:Химия
LOCATION:48 уч.к 410
END:VEVENT
BEGIN:VEVENT
UID:m7s2@192.168.245.71:3006
SEQUENCE:0
DTSTAMP:20260424T184257Z
DTSTART:20250930T070000Z
DTEND:20250930T084000Z
SUMMARY:Элективная  физическая культура и спорт
LOCATION:СК Спортивный зал
END:VEVENT
BEGIN:VEVENT
UID:ig8g@192.168.245.71:3006
SEQUENCE:0
DTSTAMP:20260424T184257Z
DTSTART:20250930T090000Z
DTEND:20250930T104000Z
SUMMARY:Химия
LOCATION:48 уч.к 401
END:VEVENT
BEGIN:VEVENT
UID:b2o8@192.168.245.71:3006
SEQUENCE:0
DTSTAMP:20260424T184257Z
DTSTART:20251001T050000Z
DTEND:20251001T064000Z
SUMMARY:Иностранный язык: Русский язык как иностранный
LOCATION:9 к. 212
END:VEVENT
BEGIN:VEVENT
UID:8cdm@192.168.245.71:3006
SEQUENCE:0
DTSTAMP:20260424T184257Z
DTSTART:20251001T070000Z
DTEND:20251001T084000Z
SUMMARY:Факультатив по физике
LOCATION:48 уч.к 410
END:VEVENT
BEGIN:VEVENT
UID:533c@192.168.245.71:3006
SEQUENCE:0
DTSTAMP:20260424T184257Z
DTSTART:20251001T110000Z
DTEND:20251001T124000Z
SUMMARY:Высшая математика
LOCATION:48 уч.к 403
END:VEVENT
BEGIN:VEVENT
UID:eyy7@192.168.245.71:3006
SEQUENCE:0
DTSTAMP:20260424T184257Z
DTSTART:20251001T130000Z
DTEND:20251001T144000Z
SUMMARY:История России
LOCATION:48 уч.к 301
END:VEVENT
BEGIN:VEVENT
UID:tqal@192.168.245.71:3006
SEQUENCE:0
DTSTAMP:20260424T184257Z
DTSTART:20251002T050000Z
DTEND:20251002T064000Z
SUMMARY:Иностранный язык: Русский язык как иностранный
LOCATION:9 к. 212
END:VEVENT
BEGIN:VEVENT
UID:mc5k@192.168.245.71:3006
SEQUENCE:0
DTSTAMP:20260424T184257Z
DTSTART:20251002T090000Z
DTEND:20251002T104000Z
SUMMARY:Иностранный язык: Базовый курс
LOCATION:48 уч.к 416
END:VEVENT
BEGIN:VEVENT
UID:bn4k@192.168.245.71:3006
SEQUENCE:0
DTSTAMP:20260424T184257Z
DTSTART:20251002T110000Z
DTEND:20251002T124000Z
SUMMARY:Основы российской государственности
LOCATION:48 уч.к 504
END:VEVENT
BEGIN:VEVENT
UID:kd7l@192.168.245.71:3006
SEQUENCE:0
DTSTAMP:20260424T184257Z
DTSTART:20251003T050000Z
DTEND:20251003T064000Z
SUMMARY:Элективная  физическая культура и спорт
LOCATION:СК Спортивный зал
END:VEVENT
BEGIN:VEVENT
UID:rha3@192.168.245.71:3006
SEQUENCE:0
DTSTAMP:20260424T184257Z
DTSTART:20251003T070000Z
DTEND:20251003T084000Z
SUMMARY:Химия
LOCATION:48 уч.к 219
END:VEVENT
BEGIN:VEVENT
UID:bjyq@192.168.245.71:3006
SEQUENCE:0
DTSTAMP:20260424T184257Z
DTSTART:20251003T090000Z
DTEND:20251003T104000Z
SUMMARY:Химия
LOCATION:48 уч.к 219
END:VEVENT
BEGIN:VEVENT
UID:zrwe@192.168.245.71:3006
SEQUENCE:0
DTSTAMP:20260424T184257Z
DTSTART:20251003T110000Z
DTEND:20251003T124000Z
SUMMARY:Инженерная графика
LOCATION:48 уч.к 205
END:VEVENT
BEGIN:VEVENT
UID:rs4i@192.168.245.71:3006
SEQUENCE:0
DTSTAMP:20260424T184257Z
DTSTART:20251004T060000Z
DTEND:20251004T074000Z
SUMMARY:Основы российской государственности
LOCATION:DL Дистанционно
END:VEVENT
END:VCALENDAR