BEGIN:VCALENDAR
VERSION:2.0
PRODID:-//spbstu.ru//ical//RU
NAME:Расписание группы 4731903/50001
X-WR-CALNAME:Расписание группы 4731903/50001
TIMEZONE-ID:Europe/Moscow
X-WR-TIMEZONE:Europe/Moscow
BEGIN:VEVENT
UID:d9e6@192.168.245.71:3006
SEQUENCE:0
DTSTAMP:20260422T124233Z
DTSTART:20260216T070000Z
DTEND:20260216T084000Z
SUMMARY:История России
LOCATION:ГЗ 329
END:VEVENT
BEGIN:VEVENT
UID:z7p8@192.168.245.71:3006
SEQUENCE:0
DTSTAMP:20260422T124233Z
DTSTART:20260216T090000Z
DTEND:20260216T104000Z
SUMMARY:Физическая и коллоидная химия
LOCATION:48 уч.к 410
END:VEVENT
BEGIN:VEVENT
UID:trpw@192.168.245.71:3006
SEQUENCE:0
DTSTAMP:20260422T124233Z
DTSTART:20260216T110000Z
DTEND:20260216T124000Z
SUMMARY:Инженерная графика
LOCATION:48 уч.к 410
END:VEVENT
BEGIN:VEVENT
UID:uoyw@192.168.245.71:3006
SEQUENCE:0
DTSTAMP:20260422T124233Z
DTSTART:20260217T050000Z
DTEND:20260217T064000Z
SUMMARY:Иностранный язык: Русский язык как иностранный
LOCATION:16 к. 214
END:VEVENT
BEGIN:VEVENT
UID:iha0@192.168.245.71:3006
SEQUENCE:0
DTSTAMP:20260422T124233Z
DTSTART:20260217T050000Z
DTEND:20260217T064000Z
SUMMARY:Иностранный язык: Русский язык как иностранный
LOCATION:16 к. 214
END:VEVENT
BEGIN:VEVENT
UID:5fmc@192.168.245.71:3006
SEQUENCE:0
DTSTAMP:20260422T124233Z
DTSTART:20260217T070000Z
DTEND:20260217T084000Z
SUMMARY:Элективная  физическая культура и спорт
LOCATION:СК Секции
END:VEVENT
BEGIN:VEVENT
UID:9o7g@192.168.245.71:3006
SEQUENCE:0
DTSTAMP:20260422T124233Z
DTSTART:20260217T090000Z
DTEND:20260217T104000Z
SUMMARY:Информатика
LOCATION:48 уч.к 410
END:VEVENT
BEGIN:VEVENT
UID:klxo@192.168.245.71:3006
SEQUENCE:0
DTSTAMP:20260422T124233Z
DTSTART:20260217T110000Z
DTEND:20260217T124000Z
SUMMARY:Физическая и коллоидная химия
LOCATION:48 уч.к 219
END:VEVENT
BEGIN:VEVENT
UID:zkpy@192.168.245.71:3006
SEQUENCE:0
DTSTAMP:20260422T124233Z
DTSTART:20260217T130000Z
DTEND:20260217T144000Z
SUMMARY:Физическая и коллоидная химия
LOCATION:48 уч.к 219
END:VEVENT
BEGIN:VEVENT
UID:mmwa@192.168.245.71:3006
SEQUENCE:0
DTSTAMP:20260422T124233Z
DTSTART:20260217T144000Z
DTEND:20260217T154000Z
SUMMARY:Инженерная графика
LOCATION:48 уч.к 205
END:VEVENT
BEGIN:VEVENT
UID:rpyk@192.168.245.71:3006
SEQUENCE:0
DTSTAMP:20260422T124233Z
DTSTART:20260218T063000Z
DTEND:20260218T065500Z
SUMMARY:Основы цифровых технологий
LOCATION:48 уч.к 318
END:VEVENT
BEGIN:VEVENT
UID:qpwa@192.168.245.71:3006
SEQUENCE:0
DTSTAMP:20260422T124233Z
DTSTART:20260218T090000Z
DTEND:20260218T104000Z
SUMMARY:Экономическая культура
LOCATION:48 уч.к 410
END:VEVENT
BEGIN:VEVENT
UID:hhhm@192.168.245.71:3006
SEQUENCE:0
DTSTAMP:20260422T124233Z
DTSTART:20260218T104000Z
DTEND:20260218T105500Z
SUMMARY:Введение в профессиональную деятельность
LOCATION:48 уч.к 301
END:VEVENT
BEGIN:VEVENT
UID:g5w6@192.168.245.71:3006
SEQUENCE:0
DTSTAMP:20260422T124233Z
DTSTART:20260218T110000Z
DTEND:20260218T124000Z
SUMMARY:Высшая математика
LOCATION:48 уч.к 403
END:VEVENT
BEGIN:VEVENT
UID:izdk@192.168.245.71:3006
SEQUENCE:0
DTSTAMP:20260422T124233Z
DTSTART:20260218T150000Z
DTEND:20260218T160000Z
SUMMARY:Высшая математика
LOCATION:48 уч.к 403
END:VEVENT
BEGIN:VEVENT
UID:5u9h@192.168.245.71:3006
SEQUENCE:0
DTSTAMP:20260422T124233Z
DTSTART:20260219T070000Z
DTEND:20260219T084000Z
SUMMARY:Информатика
LOCATION:48 уч.к 318
END:VEVENT
BEGIN:VEVENT
UID:lohq@192.168.245.71:3006
SEQUENCE:0
DTSTAMP:20260422T124233Z
DTSTART:20260219T090000Z
DTEND:20260219T104000Z
SUMMARY:Информатика
LOCATION:48 уч.к 318
END:VEVENT
BEGIN:VEVENT
UID:dwjh@192.168.245.71:3006
SEQUENCE:0
DTSTAMP:20260422T124233Z
DTSTART:20260219T110000Z
DTEND:20260219T124000Z
SUMMARY:Иностранный язык: Базовый курс
LOCATION:48 уч.к 416
END:VEVENT
BEGIN:VEVENT
UID:h827@192.168.245.71:3006
SEQUENCE:0
DTSTAMP:20260422T124233Z
DTSTART:20260219T130000Z
DTEND:20260219T144000Z
SUMMARY:История России
LOCATION:48 уч.к 303
END:VEVENT
BEGIN:VEVENT
UID:mny1@192.168.245.71:3006
SEQUENCE:0
DTSTAMP:20260422T124233Z
DTSTART:20260219T150000Z
DTEND:20260219T160000Z
SUMMARY:История России
LOCATION:48 уч.к 303
END:VEVENT
BEGIN:VEVENT
UID:elli@192.168.245.71:3006
SEQUENCE:0
DTSTAMP:20260422T124233Z
DTSTART:20260220T050000Z
DTEND:20260220T064000Z
SUMMARY:Элективная  физическая культура и спорт
LOCATION:СК Секции
END:VEVENT
BEGIN:VEVENT
UID:r7n9@192.168.245.71:3006
SEQUENCE:0
DTSTAMP:20260422T124233Z
DTSTART:20260220T070000Z
DTEND:20260220T084000Z
SUMMARY:Высшая математика
LOCATION:48 уч.к 410
END:VEVENT
BEGIN:VEVENT
UID:hluw@192.168.245.71:3006
SEQUENCE:0
DTSTAMP:20260422T124233Z
DTSTART:20260220T090000Z
DTEND:20260220T104000Z
SUMMARY:Инженерная графика
LOCATION:48 уч.к 318
END:VEVENT
BEGIN:VEVENT
UID:2mg5@192.168.245.71:3006
SEQUENCE:0
DTSTAMP:20260422T124233Z
DTSTART:20260220T110000Z
DTEND:20260220T124000Z
SUMMARY:Физика
LOCATION:48 уч.к 410
END:VEVENT
BEGIN:VEVENT
UID:srmo@192.168.245.71:3006
SEQUENCE:0
DTSTAMP:20260422T124233Z
DTSTART:20260220T130000Z
DTEND:20260220T144000Z
SUMMARY:Физика
LOCATION:48 уч.к 401
END:VEVENT
BEGIN:VEVENT
UID:qvnj@192.168.245.71:3006
SEQUENCE:0
DTSTAMP:20260422T124233Z
DTSTART:20260220T150000Z
DTEND:20260220T160000Z
SUMMARY:Факультатив по физике
LOCATION:48 уч.к 401
END:VEVENT
BEGIN:VEVENT
UID:mqhw@192.168.245.71:3006
SEQUENCE:0
DTSTAMP:20260422T124233Z
DTSTART:20260221T130000Z
DTEND:20260221T144000Z
SUMMARY:Иностранный язык: Русский язык как иностранный
LOCATION:16 к. 214
END:VEVENT
END:VCALENDAR