BEGIN:VCALENDAR
VERSION:2.0
PRODID:-//spbstu.ru//ical//RU
NAME:Расписание группы 4731904/50001
X-WR-CALNAME:Расписание группы 4731904/50001
TIMEZONE-ID:Europe/Moscow
X-WR-TIMEZONE:Europe/Moscow
BEGIN:VEVENT
UID:jh7b@192.168.245.71:3006
SEQUENCE:0
DTSTAMP:20260421T070841Z
DTSTART:20260504T070000Z
DTEND:20260504T084000Z
SUMMARY:Аналитическая химия
LOCATION:48 уч.к 410
END:VEVENT
BEGIN:VEVENT
UID:p799@192.168.245.71:3006
SEQUENCE:0
DTSTAMP:20260421T070841Z
DTSTART:20260504T090000Z
DTEND:20260504T104000Z
SUMMARY:Физика
LOCATION:48 уч.к 410
END:VEVENT
BEGIN:VEVENT
UID:14ws@192.168.245.71:3006
SEQUENCE:0
DTSTAMP:20260421T070841Z
DTSTART:20260505T050000Z
DTEND:20260505T064000Z
SUMMARY:Иностранный язык: Русский язык как иностранный
LOCATION:16 к. 214
END:VEVENT
BEGIN:VEVENT
UID:swl8@192.168.245.71:3006
SEQUENCE:0
DTSTAMP:20260421T070841Z
DTSTART:20260505T050000Z
DTEND:20260505T064000Z
SUMMARY:Иностранный язык: Русский язык как иностранный
LOCATION:16 к. 214
END:VEVENT
BEGIN:VEVENT
UID:px0s@192.168.245.71:3006
SEQUENCE:0
DTSTAMP:20260421T070841Z
DTSTART:20260505T070000Z
DTEND:20260505T084000Z
SUMMARY:Элективная  физическая культура и спорт
LOCATION:СК Секции
END:VEVENT
BEGIN:VEVENT
UID:4sob@192.168.245.71:3006
SEQUENCE:0
DTSTAMP:20260421T070841Z
DTSTART:20260505T090000Z
DTEND:20260505T104000Z
SUMMARY:Информатика
LOCATION:48 уч.к 410
END:VEVENT
BEGIN:VEVENT
UID:m0vy@192.168.245.71:3006
SEQUENCE:0
DTSTAMP:20260421T070841Z
DTSTART:20260505T110000Z
DTEND:20260505T124000Z
SUMMARY:Инженерная графика
LOCATION:48 уч.к 205
END:VEVENT
BEGIN:VEVENT
UID:7837@192.168.245.71:3006
SEQUENCE:0
DTSTAMP:20260421T070841Z
DTSTART:20260505T130000Z
DTEND:20260505T144000Z
SUMMARY:Информатика
LOCATION:48 уч.к 318
END:VEVENT
BEGIN:VEVENT
UID:9ff7@192.168.245.71:3006
SEQUENCE:0
DTSTAMP:20260421T070841Z
DTSTART:20260506T070000Z
DTEND:20260506T084000Z
SUMMARY:Аналитическая химия
LOCATION:48 уч.к 415
END:VEVENT
BEGIN:VEVENT
UID:icmf@192.168.245.71:3006
SEQUENCE:0
DTSTAMP:20260421T070841Z
DTSTART:20260506T090000Z
DTEND:20260506T104000Z
SUMMARY:Высшая математика
LOCATION:48 уч.к 403
END:VEVENT
BEGIN:VEVENT
UID:gnl5@192.168.245.71:3006
SEQUENCE:0
DTSTAMP:20260421T070841Z
DTSTART:20260506T110000Z
DTEND:20260506T124000Z
SUMMARY:Физика
LOCATION:48 уч.к 401
END:VEVENT
BEGIN:VEVENT
UID:sw21@192.168.245.71:3006
SEQUENCE:0
DTSTAMP:20260421T070841Z
DTSTART:20260506T130000Z
DTEND:20260506T144000Z
SUMMARY:История России
LOCATION:48 уч.к 309
END:VEVENT
BEGIN:VEVENT
UID:b86g@192.168.245.71:3006
SEQUENCE:0
DTSTAMP:20260421T070841Z
DTSTART:20260506T150000Z
DTEND:20260506T164000Z
SUMMARY:История России
LOCATION:48 уч.к 309
END:VEVENT
BEGIN:VEVENT
UID:tq21@192.168.245.71:3006
SEQUENCE:0
DTSTAMP:20260421T070841Z
DTSTART:20260507T090000Z
DTEND:20260507T104000Z
SUMMARY:Информатика
LOCATION:48 уч.к 318
END:VEVENT
BEGIN:VEVENT
UID:8ub2@192.168.245.71:3006
SEQUENCE:0
DTSTAMP:20260421T070841Z
DTSTART:20260507T110000Z
DTEND:20260507T124000Z
SUMMARY:Аналитическая химия
LOCATION:48 уч.к 219
END:VEVENT
BEGIN:VEVENT
UID:6fwo@192.168.245.71:3006
SEQUENCE:0
DTSTAMP:20260421T070841Z
DTSTART:20260507T130000Z
DTEND:20260507T144000Z
SUMMARY:Аналитическая химия
LOCATION:48 уч.к 219
END:VEVENT
BEGIN:VEVENT
UID:u37b@192.168.245.71:3006
SEQUENCE:0
DTSTAMP:20260421T070841Z
DTSTART:20260508T050000Z
DTEND:20260508T064000Z
SUMMARY:Элективная  физическая культура и спорт
LOCATION:СК Секции
END:VEVENT
BEGIN:VEVENT
UID:mjtv@192.168.245.71:3006
SEQUENCE:0
DTSTAMP:20260421T070841Z
DTSTART:20260508T070000Z
DTEND:20260508T084000Z
SUMMARY:Высшая математика
LOCATION:48 уч.к 410
END:VEVENT
BEGIN:VEVENT
UID:icr3@192.168.245.71:3006
SEQUENCE:0
DTSTAMP:20260421T070841Z
DTSTART:20260508T090000Z
DTEND:20260508T104000Z
SUMMARY:Иностранный язык: Базовый курс
LOCATION:48 уч.к 416
END:VEVENT
BEGIN:VEVENT
UID:8jg0@192.168.245.71:3006
SEQUENCE:0
DTSTAMP:20260421T070841Z
DTSTART:20260508T110000Z
DTEND:20260508T124000Z
SUMMARY:Физика
LOCATION:48 уч.к 410
END:VEVENT
END:VCALENDAR