BEGIN:VCALENDAR
VERSION:2.0
PRODID:-//spbstu.ru//ical//RU
NAME:Расписание группы 4741901/50201
X-WR-CALNAME:Расписание группы 4741901/50201
TIMEZONE-ID:Europe/Moscow
X-WR-TIMEZONE:Europe/Moscow
BEGIN:VEVENT
UID:wyp9@192.168.245.71:3006
SEQUENCE:0
DTSTAMP:20260422T224059Z
DTSTART:20260224T070000Z
DTEND:20260224T084000Z
SUMMARY:Государственное регулирование в области обеспечения качества и без
 опасности биотехнологической продукции
LOCATION:48 уч.к 504
END:VEVENT
BEGIN:VEVENT
UID:5uj0@192.168.245.71:3006
SEQUENCE:0
DTSTAMP:20260422T224059Z
DTSTART:20260225T090000Z
DTEND:20260225T104000Z
SUMMARY:Биохимические основы переработки и хранения растительного сырья
LOCATION:48 уч.к 302
END:VEVENT
BEGIN:VEVENT
UID:c2g7@192.168.245.71:3006
SEQUENCE:0
DTSTAMP:20260422T224059Z
DTSTART:20260225T110000Z
DTEND:20260225T124000Z
SUMMARY:Биохимические основы переработки и хранения растительного сырья
LOCATION:48 уч.к 302
END:VEVENT
BEGIN:VEVENT
UID:iycr@192.168.245.71:3006
SEQUENCE:0
DTSTAMP:20260422T224059Z
DTSTART:20260225T130000Z
DTEND:20260225T144000Z
SUMMARY:Деловые коммуникации
LOCATION:50 уч.к 1432
END:VEVENT
BEGIN:VEVENT
UID:ws01@192.168.245.71:3006
SEQUENCE:0
DTSTAMP:20260422T224059Z
DTSTART:20260225T150000Z
DTEND:20260225T164000Z
SUMMARY:Деловые коммуникации
LOCATION:50 уч.к 1432
END:VEVENT
BEGIN:VEVENT
UID:kdmx@192.168.245.71:3006
SEQUENCE:0
DTSTAMP:20260422T224059Z
DTSTART:20260226T090000Z
DTEND:20260226T104000Z
SUMMARY:Микология
LOCATION:48 уч.к 302
END:VEVENT
BEGIN:VEVENT
UID:279c@192.168.245.71:3006
SEQUENCE:0
DTSTAMP:20260422T224059Z
DTSTART:20260226T110000Z
DTEND:20260226T124000Z
SUMMARY:Микология
LOCATION:48 уч.к 302
END:VEVENT
BEGIN:VEVENT
UID:ekwf@192.168.245.71:3006
SEQUENCE:0
DTSTAMP:20260422T224059Z
DTSTART:20260226T130000Z
DTEND:20260226T144000Z
SUMMARY:Биохимические основы переработки и хранения растительного сырья
LOCATION:48 уч.к 218
END:VEVENT
BEGIN:VEVENT
UID:u6s9@192.168.245.71:3006
SEQUENCE:0
DTSTAMP:20260422T224059Z
DTSTART:20260226T150000Z
DTEND:20260226T164000Z
SUMMARY:Биохимические основы переработки и хранения растительного сырья
LOCATION:48 уч.к 218
END:VEVENT
BEGIN:VEVENT
UID:5mwi@192.168.245.71:3006
SEQUENCE:0
DTSTAMP:20260422T224059Z
DTSTART:20260227T070000Z
DTEND:20260227T084000Z
SUMMARY:Сельскохозяйственная биотехнология
LOCATION:48 уч.к 302
END:VEVENT
BEGIN:VEVENT
UID:ysn4@192.168.245.71:3006
SEQUENCE:0
DTSTAMP:20260422T224059Z
DTSTART:20260227T090000Z
DTEND:20260227T104000Z
SUMMARY:Сельскохозяйственная биотехнология
LOCATION:48 уч.к 302
END:VEVENT
BEGIN:VEVENT
UID:kzhg@192.168.245.71:3006
SEQUENCE:0
DTSTAMP:20260422T224059Z
DTSTART:20260228T090000Z
DTEND:20260228T104000Z
SUMMARY:Регуляция матричных процессов в про- и эукариотических клетках
LOCATION:48 уч.к 405
END:VEVENT
BEGIN:VEVENT
UID:6dkk@192.168.245.71:3006
SEQUENCE:0
DTSTAMP:20260422T224059Z
DTSTART:20260228T110000Z
DTEND:20260228T124000Z
SUMMARY:Регуляция матричных процессов в про- и эукариотических клетках
LOCATION:48 уч.к 303
END:VEVENT
BEGIN:VEVENT
UID:qzs4@192.168.245.71:3006
SEQUENCE:0
DTSTAMP:20260422T224059Z
DTSTART:20260228T130000Z
DTEND:20260228T144000Z
SUMMARY:Регуляция матричных процессов в про- и эукариотических клетках
LOCATION:48 уч.к 303
END:VEVENT
END:VCALENDAR