BEGIN:VCALENDAR
VERSION:2.0
PRODID:-//spbstu.ru//ical//RU
NAME:Расписание группы 4741901/50301
X-WR-CALNAME:Расписание группы 4741901/50301
TIMEZONE-ID:Europe/Moscow
X-WR-TIMEZONE:Europe/Moscow
BEGIN:VEVENT
UID:i7y8@192.168.245.71:3006
SEQUENCE:0
DTSTAMP:20260424T131600Z
DTSTART:20251013T130000Z
DTEND:20251013T144000Z
SUMMARY:Молекулярная биотехнология
LOCATION:48 уч.к 405
END:VEVENT
BEGIN:VEVENT
UID:uqps@192.168.245.71:3006
SEQUENCE:0
DTSTAMP:20260424T131600Z
DTSTART:20251013T150000Z
DTEND:20251013T164000Z
SUMMARY:Молекулярная биотехнология
LOCATION:48 уч.к 405
END:VEVENT
BEGIN:VEVENT
UID:8m0c@192.168.245.71:3006
SEQUENCE:0
DTSTAMP:20260424T131600Z
DTSTART:20251014T090000Z
DTEND:20251014T104000Z
SUMMARY:Иностранный язык в профессиональной коммуникации\, Английский
LOCATION:48 уч.к 414
END:VEVENT
BEGIN:VEVENT
UID:2wqe@192.168.245.71:3006
SEQUENCE:0
DTSTAMP:20260424T131600Z
DTSTART:20251014T110000Z
DTEND:20251014T124000Z
SUMMARY:Планирование и организация научных исследований
LOCATION:48 уч.к 310
END:VEVENT
BEGIN:VEVENT
UID:puan@192.168.245.71:3006
SEQUENCE:0
DTSTAMP:20260424T131600Z
DTSTART:20251014T130000Z
DTEND:20251014T144000Z
SUMMARY:Планирование и организация научных исследований
LOCATION:48 уч.к 310
END:VEVENT
BEGIN:VEVENT
UID:qdzu@192.168.245.71:3006
SEQUENCE:0
DTSTAMP:20260424T131600Z
DTSTART:20251014T150000Z
DTEND:20251014T164000Z
SUMMARY:Планирование и организация научных исследований
LOCATION:48 уч.к 310
END:VEVENT
BEGIN:VEVENT
UID:mah7@192.168.245.71:3006
SEQUENCE:0
DTSTAMP:20260424T131600Z
DTSTART:20251015T130000Z
DTEND:20251015T144000Z
SUMMARY:Практическая энзимология
LOCATION:48 уч.к 310
END:VEVENT
BEGIN:VEVENT
UID:licx@192.168.245.71:3006
SEQUENCE:0
DTSTAMP:20260424T131600Z
DTSTART:20251015T150000Z
DTEND:20251015T164000Z
SUMMARY:Практическая энзимология
LOCATION:48 уч.к 310
END:VEVENT
BEGIN:VEVENT
UID:2tek@192.168.245.71:3006
SEQUENCE:0
DTSTAMP:20260424T131600Z
DTSTART:20251016T070000Z
DTEND:20251016T140000Z
SUMMARY:Научно-исследовательская работа
LOCATION:Не опр. Нет
END:VEVENT
BEGIN:VEVENT
UID:p2nl@192.168.245.71:3006
SEQUENCE:0
DTSTAMP:20260424T131600Z
DTSTART:20251017T110000Z
DTEND:20251017T124000Z
SUMMARY:Современные аспекты бионанотехнологии
LOCATION:48 уч.к 201
END:VEVENT
BEGIN:VEVENT
UID:xps6@192.168.245.71:3006
SEQUENCE:0
DTSTAMP:20260424T131600Z
DTSTART:20251017T130000Z
DTEND:20251017T144000Z
SUMMARY:Современные аспекты бионанотехнологии
LOCATION:48 уч.к 201
END:VEVENT
BEGIN:VEVENT
UID:uelx@192.168.245.71:3006
SEQUENCE:0
DTSTAMP:20260424T131600Z
DTSTART:20251018T070000Z
DTEND:20251018T084000Z
SUMMARY:Морфология и физиология объектов биотехнологии
LOCATION:48 уч.к 405
END:VEVENT
BEGIN:VEVENT
UID:pvun@192.168.245.71:3006
SEQUENCE:0
DTSTAMP:20260424T131600Z
DTSTART:20251018T090000Z
DTEND:20251018T104000Z
SUMMARY:Морфология и физиология объектов биотехнологии
LOCATION:48 уч.к 405
END:VEVENT
END:VCALENDAR