BEGIN:VCALENDAR
VERSION:2.0
PRODID:-//spbstu.ru//ical//RU
NAME:Расписание группы 4741901/50301
X-WR-CALNAME:Расписание группы 4741901/50301
TIMEZONE-ID:Europe/Moscow
X-WR-TIMEZONE:Europe/Moscow
BEGIN:VEVENT
UID:ynrs@192.168.245.71:3006
SEQUENCE:0
DTSTAMP:20260424T203139Z
DTSTART:20250915T130000Z
DTEND:20250915T144000Z
SUMMARY:Молекулярная биотехнология
LOCATION:48 уч.к 405
END:VEVENT
BEGIN:VEVENT
UID:6anj@192.168.245.71:3006
SEQUENCE:0
DTSTAMP:20260424T203139Z
DTSTART:20250915T150000Z
DTEND:20250915T164000Z
SUMMARY:Молекулярная биотехнология
LOCATION:48 уч.к 405
END:VEVENT
BEGIN:VEVENT
UID:v9qw@192.168.245.71:3006
SEQUENCE:0
DTSTAMP:20260424T203139Z
DTSTART:20250916T090000Z
DTEND:20250916T104000Z
SUMMARY:Иностранный язык в профессиональной коммуникации\, Английский
LOCATION:48 уч.к 414
END:VEVENT
BEGIN:VEVENT
UID:dihy@192.168.245.71:3006
SEQUENCE:0
DTSTAMP:20260424T203139Z
DTSTART:20250916T110000Z
DTEND:20250916T124000Z
SUMMARY:Планирование и организация научных исследований
LOCATION:48 уч.к 310
END:VEVENT
BEGIN:VEVENT
UID:l5ro@192.168.245.71:3006
SEQUENCE:0
DTSTAMP:20260424T203139Z
DTSTART:20250916T130000Z
DTEND:20250916T144000Z
SUMMARY:Планирование и организация научных исследований
LOCATION:48 уч.к 310
END:VEVENT
BEGIN:VEVENT
UID:of28@192.168.245.71:3006
SEQUENCE:0
DTSTAMP:20260424T203139Z
DTSTART:20250916T150000Z
DTEND:20250916T164000Z
SUMMARY:Планирование и организация научных исследований
LOCATION:48 уч.к 310
END:VEVENT
BEGIN:VEVENT
UID:fwk0@192.168.245.71:3006
SEQUENCE:0
DTSTAMP:20260424T203139Z
DTSTART:20250917T130000Z
DTEND:20250917T144000Z
SUMMARY:Практическая энзимология
LOCATION:48 уч.к 310
END:VEVENT
BEGIN:VEVENT
UID:p3p5@192.168.245.71:3006
SEQUENCE:0
DTSTAMP:20260424T203139Z
DTSTART:20250917T150000Z
DTEND:20250917T164000Z
SUMMARY:Практическая энзимология
LOCATION:48 уч.к 310
END:VEVENT
BEGIN:VEVENT
UID:td08@192.168.245.71:3006
SEQUENCE:0
DTSTAMP:20260424T203139Z
DTSTART:20250918T070000Z
DTEND:20250918T140000Z
SUMMARY:Научно-исследовательская работа
LOCATION:Не опр. Нет
END:VEVENT
BEGIN:VEVENT
UID:butc@192.168.245.71:3006
SEQUENCE:0
DTSTAMP:20260424T203139Z
DTSTART:20250919T150000Z
DTEND:20250919T164000Z
SUMMARY:Цифровые ресурсы в научном исследовании
LOCATION:48 уч.к 318
END:VEVENT
BEGIN:VEVENT
UID:2z2b@192.168.245.71:3006
SEQUENCE:0
DTSTAMP:20260424T203139Z
DTSTART:20250920T070000Z
DTEND:20250920T084000Z
SUMMARY:Морфология и физиология объектов биотехнологии
LOCATION:48 уч.к 405
END:VEVENT
BEGIN:VEVENT
UID:n6u7@192.168.245.71:3006
SEQUENCE:0
DTSTAMP:20260424T203139Z
DTSTART:20250920T090000Z
DTEND:20250920T104000Z
SUMMARY:Морфология и физиология объектов биотехнологии
LOCATION:48 уч.к 405
END:VEVENT
END:VCALENDAR