BEGIN:VCALENDAR
VERSION:2.0
PRODID:-//spbstu.ru//ical//RU
NAME:Расписание группы 4741904/50401
X-WR-CALNAME:Расписание группы 4741904/50401
TIMEZONE-ID:Europe/Moscow
X-WR-TIMEZONE:Europe/Moscow
BEGIN:VEVENT
UID:fb70@192.168.245.71:3006
SEQUENCE:0
DTSTAMP:20260426T012007Z
DTSTART:20251007T130000Z
DTEND:20251007T144000Z
SUMMARY:Системы менеджмента безопасности пищевой продукции
LOCATION:48 уч.к 205
END:VEVENT
BEGIN:VEVENT
UID:ekyc@192.168.245.71:3006
SEQUENCE:0
DTSTAMP:20260426T012007Z
DTSTART:20251007T150000Z
DTEND:20251007T164000Z
SUMMARY:Системы менеджмента безопасности пищевой продукции
LOCATION:48 уч.к 205
END:VEVENT
BEGIN:VEVENT
UID:hx30@192.168.245.71:3006
SEQUENCE:0
DTSTAMP:20260426T012007Z
DTSTART:20251007T170000Z
DTEND:20251007T184000Z
SUMMARY:Системы менеджмента безопасности пищевой продукции
LOCATION:48 уч.к 205
END:VEVENT
BEGIN:VEVENT
UID:chpx@192.168.245.71:3006
SEQUENCE:0
DTSTAMP:20260426T012007Z
DTSTART:20251008T130000Z
DTEND:20251008T144000Z
SUMMARY:Инновации в технологии продукции индустрии питания
LOCATION:48 уч.к 302
END:VEVENT
BEGIN:VEVENT
UID:ve4n@192.168.245.71:3006
SEQUENCE:0
DTSTAMP:20260426T012007Z
DTSTART:20251008T150000Z
DTEND:20251008T164000Z
SUMMARY:Иностранный язык в профессиональной коммуникации\, Английский
LOCATION:48 уч.к 416
END:VEVENT
BEGIN:VEVENT
UID:blns@192.168.245.71:3006
SEQUENCE:0
DTSTAMP:20260426T012007Z
DTSTART:20251010T110000Z
DTEND:20251010T124000Z
SUMMARY:Цифровые ресурсы в научном исследовании
LOCATION:48 уч.к 318
END:VEVENT
BEGIN:VEVENT
UID:03rh@192.168.245.71:3006
SEQUENCE:0
DTSTAMP:20260426T012007Z
DTSTART:20251010T130000Z
DTEND:20251010T144000Z
SUMMARY:Управление научным проектом
LOCATION:48 уч.к 410
END:VEVENT
END:VCALENDAR