BEGIN:VCALENDAR
VERSION:2.0
PRODID:-//spbstu.ru//ical//RU
NAME:Расписание группы 4741904/50401
X-WR-CALNAME:Расписание группы 4741904/50401
TIMEZONE-ID:Europe/Moscow
X-WR-TIMEZONE:Europe/Moscow
BEGIN:VEVENT
UID:s78y@192.168.245.71:3006
SEQUENCE:0
DTSTAMP:20260421T153649Z
DTSTART:20260413T070000Z
DTEND:20260413T084000Z
SUMMARY:Технология продукции специализированного и функционального назначе
 ния
LOCATION:48 уч.к 212
END:VEVENT
BEGIN:VEVENT
UID:cptb@192.168.245.71:3006
SEQUENCE:0
DTSTAMP:20260421T153649Z
DTSTART:20260413T070000Z
DTEND:20260413T084000Z
SUMMARY:Технология продукции специализированного и функционального назначе
 ния
LOCATION:48 уч.к 212
END:VEVENT
BEGIN:VEVENT
UID:znu3@192.168.245.71:3006
SEQUENCE:0
DTSTAMP:20260421T153649Z
DTSTART:20260413T090000Z
DTEND:20260413T104000Z
SUMMARY:Технология продукции специализированного и функционального назначе
 ния
LOCATION:48 уч.к 212
END:VEVENT
BEGIN:VEVENT
UID:ccj0@192.168.245.71:3006
SEQUENCE:0
DTSTAMP:20260421T153649Z
DTSTART:20260413T090000Z
DTEND:20260413T104000Z
SUMMARY:Технология продукции специализированного и функционального назначе
 ния
LOCATION:48 уч.к 212
END:VEVENT
BEGIN:VEVENT
UID:ofom@192.168.245.71:3006
SEQUENCE:0
DTSTAMP:20260421T153649Z
DTSTART:20260413T110000Z
DTEND:20260413T124000Z
SUMMARY:Технология продукции специализированного и функционального назначе
 ния
LOCATION:48 уч.к 218
END:VEVENT
BEGIN:VEVENT
UID:0m3x@192.168.245.71:3006
SEQUENCE:0
DTSTAMP:20260421T153649Z
DTSTART:20260413T110000Z
DTEND:20260413T124000Z
SUMMARY:Технология продукции специализированного и функционального назначе
 ния
LOCATION:48 уч.к 218
END:VEVENT
BEGIN:VEVENT
UID:wwyw@192.168.245.71:3006
SEQUENCE:0
DTSTAMP:20260421T153649Z
DTSTART:20260414T130000Z
DTEND:20260414T144000Z
SUMMARY:Маркетинг продуктов здорового питания
LOCATION:48 уч.к 301
END:VEVENT
BEGIN:VEVENT
UID:epto@192.168.245.71:3006
SEQUENCE:0
DTSTAMP:20260421T153649Z
DTSTART:20260414T150000Z
DTEND:20260414T164000Z
SUMMARY:Маркетинг продуктов здорового питания
LOCATION:48 уч.к 301
END:VEVENT
BEGIN:VEVENT
UID:i4nt@192.168.245.71:3006
SEQUENCE:0
DTSTAMP:20260421T153649Z
DTSTART:20260416T070000Z
DTEND:20260416T084000Z
SUMMARY:Функциональное питание
LOCATION:48 уч.к 201
END:VEVENT
BEGIN:VEVENT
UID:4ybv@192.168.245.71:3006
SEQUENCE:0
DTSTAMP:20260421T153649Z
DTSTART:20260416T090000Z
DTEND:20260416T104000Z
SUMMARY:Функциональное питание
LOCATION:48 уч.к 201
END:VEVENT
BEGIN:VEVENT
UID:amfu@192.168.245.71:3006
SEQUENCE:0
DTSTAMP:20260421T153649Z
DTSTART:20260416T110000Z
DTEND:20260416T124000Z
SUMMARY:Цифровые технологии и программное обеспечение в нутрициологии
LOCATION:48 уч.к 205
END:VEVENT
BEGIN:VEVENT
UID:7nuq@192.168.245.71:3006
SEQUENCE:0
DTSTAMP:20260421T153649Z
DTSTART:20260416T130000Z
DTEND:20260416T144000Z
SUMMARY:Деловые коммуникации
LOCATION:50 уч.к 1432
END:VEVENT
BEGIN:VEVENT
UID:e9hc@192.168.245.71:3006
SEQUENCE:0
DTSTAMP:20260421T153649Z
DTSTART:20260416T150000Z
DTEND:20260416T164000Z
SUMMARY:Деловые коммуникации
LOCATION:50 уч.к 1432
END:VEVENT
BEGIN:VEVENT
UID:py02@192.168.245.71:3006
SEQUENCE:0
DTSTAMP:20260421T153649Z
DTSTART:20260417T050000Z
DTEND:20260417T123000Z
SUMMARY:Научно-исследовательская работа
LOCATION:DL Дистанционно
END:VEVENT
END:VCALENDAR