BEGIN:VCALENDAR
VERSION:2.0
PRODID:-//spbstu.ru//ical//RU
NAME:Расписание группы 4741905/50101
X-WR-CALNAME:Расписание группы 4741905/50101
TIMEZONE-ID:Europe/Moscow
X-WR-TIMEZONE:Europe/Moscow
BEGIN:VEVENT
UID:5i5f@192.168.245.71:3006
SEQUENCE:0
DTSTAMP:20260422T184334Z
DTSTART:20260224T090000Z
DTEND:20260224T104000Z
SUMMARY:Биохимические и физико-химические основы переработки и хранения пр
 одовольственного сырья
LOCATION:48 уч.к 218
END:VEVENT
BEGIN:VEVENT
UID:u555@192.168.245.71:3006
SEQUENCE:0
DTSTAMP:20260422T184334Z
DTSTART:20260224T110000Z
DTEND:20260224T124000Z
SUMMARY:Биохимические и физико-химические основы переработки и хранения пр
 одовольственного сырья
LOCATION:48 уч.к 218
END:VEVENT
BEGIN:VEVENT
UID:xz9l@192.168.245.71:3006
SEQUENCE:0
DTSTAMP:20260422T184334Z
DTSTART:20260224T130000Z
DTEND:20260224T144000Z
SUMMARY:Маркетинг продуктов здорового питания
LOCATION:48 уч.к 301
END:VEVENT
BEGIN:VEVENT
UID:pw8f@192.168.245.71:3006
SEQUENCE:0
DTSTAMP:20260422T184334Z
DTSTART:20260224T150000Z
DTEND:20260224T164000Z
SUMMARY:Маркетинг продуктов здорового питания
LOCATION:48 уч.к 301
END:VEVENT
BEGIN:VEVENT
UID:aqqc@192.168.245.71:3006
SEQUENCE:0
DTSTAMP:20260422T184334Z
DTSTART:20260225T070000Z
DTEND:20260225T084000Z
SUMMARY:Технология продукции специализированного и функционального назначе
 ния
LOCATION:48 уч.к 310
END:VEVENT
BEGIN:VEVENT
UID:vo9n@192.168.245.71:3006
SEQUENCE:0
DTSTAMP:20260422T184334Z
DTSTART:20260225T090000Z
DTEND:20260225T104000Z
SUMMARY:Технология продукции специализированного и функционального назначе
 ния
LOCATION:48 уч.к 414
END:VEVENT
BEGIN:VEVENT
UID:2e8j@192.168.245.71:3006
SEQUENCE:0
DTSTAMP:20260422T184334Z
DTSTART:20260225T110000Z
DTEND:20260225T124000Z
SUMMARY:Современные холодильные технологии пищевых продуктов
LOCATION:48 уч.к 201
END:VEVENT
BEGIN:VEVENT
UID:x0us@192.168.245.71:3006
SEQUENCE:0
DTSTAMP:20260422T184334Z
DTSTART:20260226T130000Z
DTEND:20260226T144000Z
SUMMARY:Деловые коммуникации
LOCATION:50 уч.к 1432
END:VEVENT
BEGIN:VEVENT
UID:2lfk@192.168.245.71:3006
SEQUENCE:0
DTSTAMP:20260422T184334Z
DTSTART:20260226T150000Z
DTEND:20260226T164000Z
SUMMARY:Деловые коммуникации
LOCATION:50 уч.к 1432
END:VEVENT
END:VCALENDAR