BEGIN:VCALENDAR
VERSION:2.0
PRODID:-//spbstu.ru//ical//RU
NAME:Расписание группы 4741905/50101
X-WR-CALNAME:Расписание группы 4741905/50101
TIMEZONE-ID:Europe/Moscow
X-WR-TIMEZONE:Europe/Moscow
BEGIN:VEVENT
UID:673z@192.168.245.71:3006
SEQUENCE:0
DTSTAMP:20260421T115231Z
DTSTART:20260420T070000Z
DTEND:20260420T084000Z
SUMMARY:Технология продукции специализированного и функционального назначе
 ния
LOCATION:48 уч.к 212
END:VEVENT
BEGIN:VEVENT
UID:v6kf@192.168.245.71:3006
SEQUENCE:0
DTSTAMP:20260421T115231Z
DTSTART:20260420T090000Z
DTEND:20260420T104000Z
SUMMARY:Технология продукции специализированного и функционального назначе
 ния
LOCATION:48 уч.к 212
END:VEVENT
BEGIN:VEVENT
UID:hf93@192.168.245.71:3006
SEQUENCE:0
DTSTAMP:20260421T115231Z
DTSTART:20260420T110000Z
DTEND:20260420T124000Z
SUMMARY:Технология продукции специализированного и функционального назначе
 ния
LOCATION:48 уч.к 218
END:VEVENT
BEGIN:VEVENT
UID:z5ht@192.168.245.71:3006
SEQUENCE:0
DTSTAMP:20260421T115231Z
DTSTART:20260421T130000Z
DTEND:20260421T144000Z
SUMMARY:Маркетинг продуктов здорового питания
LOCATION:48 уч.к 301
END:VEVENT
BEGIN:VEVENT
UID:wr0c@192.168.245.71:3006
SEQUENCE:0
DTSTAMP:20260421T115231Z
DTSTART:20260421T150000Z
DTEND:20260421T164000Z
SUMMARY:Маркетинг продуктов здорового питания
LOCATION:48 уч.к 301
END:VEVENT
BEGIN:VEVENT
UID:r0gb@192.168.245.71:3006
SEQUENCE:0
DTSTAMP:20260421T115231Z
DTSTART:20260422T110000Z
DTEND:20260422T124000Z
SUMMARY:Современные холодильные технологии пищевых продуктов
LOCATION:48 уч.к 201
END:VEVENT
BEGIN:VEVENT
UID:4ykf@192.168.245.71:3006
SEQUENCE:0
DTSTAMP:20260421T115231Z
DTSTART:20260423T110000Z
DTEND:20260423T124000Z
SUMMARY:Биохимические и физико-химические основы переработки и хранения пр
 одовольственного сырья
LOCATION:48 уч.к 201
END:VEVENT
BEGIN:VEVENT
UID:pjvq@192.168.245.71:3006
SEQUENCE:0
DTSTAMP:20260421T115231Z
DTSTART:20260423T130000Z
DTEND:20260423T144000Z
SUMMARY:Деловые коммуникации
LOCATION:50 уч.к 1432
END:VEVENT
BEGIN:VEVENT
UID:t44l@192.168.245.71:3006
SEQUENCE:0
DTSTAMP:20260421T115231Z
DTSTART:20260423T150000Z
DTEND:20260423T164000Z
SUMMARY:Деловые коммуникации
LOCATION:50 уч.к 1432
END:VEVENT
BEGIN:VEVENT
UID:52m3@192.168.245.71:3006
SEQUENCE:0
DTSTAMP:20260421T115231Z
DTSTART:20260424T050000Z
DTEND:20260424T123000Z
SUMMARY:Научно-исследовательская работа
LOCATION:DL Дистанционно
END:VEVENT
END:VCALENDAR