BEGIN:VCALENDAR
VERSION:2.0
PRODID:-//spbstu.ru//ical//RU
NAME:Расписание группы 4731901/40002
X-WR-CALNAME:Расписание группы 4731901/40002
TIMEZONE-ID:Europe/Moscow
X-WR-TIMEZONE:Europe/Moscow
BEGIN:VEVENT
UID:mb6a@192.168.245.71:3006
SEQUENCE:0
DTSTAMP:20260424T172824Z
DTSTART:20251103T090000Z
DTEND:20251103T104000Z
SUMMARY:Общая биология и морфология
LOCATION:48 уч.к 405
END:VEVENT
BEGIN:VEVENT
UID:eogl@192.168.245.71:3006
SEQUENCE:0
DTSTAMP:20260424T172824Z
DTSTART:20251103T110000Z
DTEND:20251103T124000Z
SUMMARY:Основы биотехнологии
LOCATION:48 уч.к 218
END:VEVENT
BEGIN:VEVENT
UID:6kno@192.168.245.71:3006
SEQUENCE:0
DTSTAMP:20260424T172824Z
DTSTART:20251103T110000Z
DTEND:20251103T124000Z
SUMMARY:Общая биология и морфология
LOCATION:48 уч.к 313
END:VEVENT
BEGIN:VEVENT
UID:sr5w@192.168.245.71:3006
SEQUENCE:0
DTSTAMP:20260424T172824Z
DTSTART:20251103T130000Z
DTEND:20251103T144000Z
SUMMARY:Общая биология и морфология
LOCATION:48 уч.к 313
END:VEVENT
BEGIN:VEVENT
UID:d44u@192.168.245.71:3006
SEQUENCE:0
DTSTAMP:20260424T172824Z
DTSTART:20251103T130000Z
DTEND:20251103T144000Z
SUMMARY:Основы биотехнологии
LOCATION:48 уч.к 218
END:VEVENT
BEGIN:VEVENT
UID:v2wx@192.168.245.71:3006
SEQUENCE:0
DTSTAMP:20260424T172824Z
DTSTART:20251105T090000Z
DTEND:20251105T104000Z
SUMMARY:Основы биотехнологии
LOCATION:48 уч.к 405
END:VEVENT
BEGIN:VEVENT
UID:8f8f@192.168.245.71:3006
SEQUENCE:0
DTSTAMP:20260424T172824Z
DTSTART:20251105T110000Z
DTEND:20251105T124000Z
SUMMARY:Общая биология и морфология
LOCATION:48 уч.к 303
END:VEVENT
BEGIN:VEVENT
UID:g34l@192.168.245.71:3006
SEQUENCE:0
DTSTAMP:20260424T172824Z
DTSTART:20251105T130000Z
DTEND:20251105T144000Z
SUMMARY:Навыки личной эффективности (SoftSkills)
LOCATION:DL Дистанционно
END:VEVENT
BEGIN:VEVENT
UID:f6lm@192.168.245.71:3006
SEQUENCE:0
DTSTAMP:20260424T172824Z
DTSTART:20251106T070000Z
DTEND:20251106T084000Z
SUMMARY:Органическая химия
LOCATION:48 уч.к 316
END:VEVENT
BEGIN:VEVENT
UID:tdde@192.168.245.71:3006
SEQUENCE:0
DTSTAMP:20260424T172824Z
DTSTART:20251106T090000Z
DTEND:20251106T104000Z
SUMMARY:Органическая химия
LOCATION:48 уч.к 316
END:VEVENT
BEGIN:VEVENT
UID:jt08@192.168.245.71:3006
SEQUENCE:0
DTSTAMP:20260424T172824Z
DTSTART:20251106T110000Z
DTEND:20251106T124000Z
SUMMARY:Высшая математика
LOCATION:48 уч.к 403
END:VEVENT
BEGIN:VEVENT
UID:7z1n@192.168.245.71:3006
SEQUENCE:0
DTSTAMP:20260424T172824Z
DTSTART:20251107T090000Z
DTEND:20251107T104000Z
SUMMARY:Элективная  физическая культура и спорт
LOCATION:СК Спортивный зал
END:VEVENT
BEGIN:VEVENT
UID:a4zf@192.168.245.71:3006
SEQUENCE:0
DTSTAMP:20260424T172824Z
DTSTART:20251107T110000Z
DTEND:20251107T124000Z
SUMMARY:Санитария и гигиена биотехнологических производств
LOCATION:48 уч.к 307
END:VEVENT
BEGIN:VEVENT
UID:192g@192.168.245.71:3006
SEQUENCE:0
DTSTAMP:20260424T172824Z
DTSTART:20251107T130000Z
DTEND:20251107T144000Z
SUMMARY:Санитария и гигиена биотехнологических производств
LOCATION:48 уч.к 307
END:VEVENT
BEGIN:VEVENT
UID:inft@192.168.245.71:3006
SEQUENCE:0
DTSTAMP:20260424T172824Z
DTSTART:20251108T060000Z
DTEND:20251108T084000Z
SUMMARY:Иностранный язык: Русский язык как иностранный
LOCATION:ГЗ 229
END:VEVENT
END:VCALENDAR