BEGIN:VCALENDAR
VERSION:2.0
PRODID:-//spbstu.ru//ical//RU
NAME:Расписание группы 4731901/40002
X-WR-CALNAME:Расписание группы 4731901/40002
TIMEZONE-ID:Europe/Moscow
X-WR-TIMEZONE:Europe/Moscow
BEGIN:VEVENT
UID:eis7@192.168.245.71:3006
SEQUENCE:0
DTSTAMP:20260423T031954Z
DTSTART:20260113T070000Z
DTEND:20260113T084000Z
SUMMARY:Высшая математика
LOCATION:48 уч.к 405
END:VEVENT
BEGIN:VEVENT
UID:3w7m@192.168.245.71:3006
SEQUENCE:0
DTSTAMP:20260423T031954Z
DTSTART:20260114T090000Z
DTEND:20260114T123000Z
SUMMARY:Высшая математика
LOCATION:48 уч.к 403
END:VEVENT
BEGIN:VEVENT
UID:z1s0@192.168.245.71:3006
SEQUENCE:0
DTSTAMP:20260423T031954Z
DTSTART:20260115T110000Z
DTEND:20260115T124000Z
SUMMARY:Основы биотехнологии
LOCATION:48 уч.к 401
END:VEVENT
BEGIN:VEVENT
UID:dwcq@192.168.245.71:3006
SEQUENCE:0
DTSTAMP:20260423T031954Z
DTSTART:20260116T090000Z
DTEND:20260116T123000Z
SUMMARY:Основы биотехнологии
LOCATION:48 уч.к 401
END:VEVENT
BEGIN:VEVENT
UID:skpd@192.168.245.71:3006
SEQUENCE:0
DTSTAMP:20260423T031954Z
DTSTART:20260117T070000Z
DTEND:20260117T084000Z
SUMMARY:Иностранный язык: Базовый курс
LOCATION:48 уч.к 416
END:VEVENT
END:VCALENDAR