BEGIN:VCALENDAR
VERSION:2.0
PRODID:-//spbstu.ru//ical//RU
NAME:Расписание группы 4731901/40002
X-WR-CALNAME:Расписание группы 4731901/40002
TIMEZONE-ID:Europe/Moscow
X-WR-TIMEZONE:Europe/Moscow
BEGIN:VEVENT
UID:m8ha@192.168.245.71:3006
SEQUENCE:0
DTSTAMP:20260422T205233Z
DTSTART:20260209T070000Z
DTEND:20260209T084000Z
SUMMARY:Биохимия
LOCATION:48 уч.к 313
END:VEVENT
BEGIN:VEVENT
UID:dq40@192.168.245.71:3006
SEQUENCE:0
DTSTAMP:20260422T205233Z
DTSTART:20260209T070000Z
DTEND:20260209T084000Z
SUMMARY:Техническая микробиология
LOCATION:48 уч.к 307
END:VEVENT
BEGIN:VEVENT
UID:v514@192.168.245.71:3006
SEQUENCE:0
DTSTAMP:20260422T205233Z
DTSTART:20260209T090000Z
DTEND:20260209T104000Z
SUMMARY:Техническая микробиология
LOCATION:48 уч.к 307
END:VEVENT
BEGIN:VEVENT
UID:2mfc@192.168.245.71:3006
SEQUENCE:0
DTSTAMP:20260422T205233Z
DTSTART:20260209T090000Z
DTEND:20260209T104000Z
SUMMARY:Биохимия
LOCATION:48 уч.к 313
END:VEVENT
BEGIN:VEVENT
UID:cgr3@192.168.245.71:3006
SEQUENCE:0
DTSTAMP:20260422T205233Z
DTSTART:20260209T110000Z
DTEND:20260209T124000Z
SUMMARY:Электротехника
LOCATION:3 к. 215
END:VEVENT
BEGIN:VEVENT
UID:3a5s@192.168.245.71:3006
SEQUENCE:0
DTSTAMP:20260422T205233Z
DTSTART:20260209T130000Z
DTEND:20260209T135000Z
SUMMARY:Электротехника
LOCATION:3 к. 215
END:VEVENT
BEGIN:VEVENT
UID:2him@192.168.245.71:3006
SEQUENCE:0
DTSTAMP:20260422T205233Z
DTSTART:20260210T070000Z
DTEND:20260210T084000Z
SUMMARY:Безопасность жизнедеятельности
LOCATION:48 уч.к 405
END:VEVENT
BEGIN:VEVENT
UID:zcx1@192.168.245.71:3006
SEQUENCE:0
DTSTAMP:20260422T205233Z
DTSTART:20260210T090000Z
DTEND:20260210T104000Z
SUMMARY:Элективная  физическая культура и спорт
LOCATION:СК Секции
END:VEVENT
BEGIN:VEVENT
UID:cph8@192.168.245.71:3006
SEQUENCE:0
DTSTAMP:20260422T205233Z
DTSTART:20260210T110000Z
DTEND:20260210T124000Z
SUMMARY:Иностранный язык. Профессионально-ориентированный курс
LOCATION:48 уч.к 416
END:VEVENT
BEGIN:VEVENT
UID:b0mk@192.168.245.71:3006
SEQUENCE:0
DTSTAMP:20260422T205233Z
DTSTART:20260211T070000Z
DTEND:20260211T084000Z
SUMMARY:Иностранный язык. Профессионально-ориентированный курс
LOCATION:48 уч.к 416
END:VEVENT
BEGIN:VEVENT
UID:6tqa@192.168.245.71:3006
SEQUENCE:0
DTSTAMP:20260422T205233Z
DTSTART:20260211T090000Z
DTEND:20260211T104000Z
SUMMARY:Биохимия
LOCATION:48 уч.к 504
END:VEVENT
BEGIN:VEVENT
UID:r0ol@192.168.245.71:3006
SEQUENCE:0
DTSTAMP:20260422T205233Z
DTSTART:20260212T070000Z
DTEND:20260212T084000Z
SUMMARY:Электротехника
LOCATION:ГЗ ЭиЭ
END:VEVENT
BEGIN:VEVENT
UID:a6ln@192.168.245.71:3006
SEQUENCE:0
DTSTAMP:20260422T205233Z
DTSTART:20260212T070000Z
DTEND:20260212T084000Z
SUMMARY:Электротехника
LOCATION:ГЗ ЭиЭ
END:VEVENT
BEGIN:VEVENT
UID:1nes@192.168.245.71:3006
SEQUENCE:0
DTSTAMP:20260422T205233Z
DTSTART:20260212T090000Z
DTEND:20260212T104000Z
SUMMARY:Теплофизические основы технологий биологических объектов
LOCATION:48 уч.к 504
END:VEVENT
BEGIN:VEVENT
UID:nys8@192.168.245.71:3006
SEQUENCE:0
DTSTAMP:20260422T205233Z
DTSTART:20260212T110000Z
DTEND:20260212T124000Z
SUMMARY:Теплофизические основы технологий биологических объектов
LOCATION:48 уч.к 504
END:VEVENT
BEGIN:VEVENT
UID:tgyi@192.168.245.71:3006
SEQUENCE:0
DTSTAMP:20260422T205233Z
DTSTART:20260213T050000Z
DTEND:20260213T064000Z
SUMMARY:Экологический мониторинг объектов окружающей среды
LOCATION:48 уч.к 504
END:VEVENT
BEGIN:VEVENT
UID:32k7@192.168.245.71:3006
SEQUENCE:0
DTSTAMP:20260422T205233Z
DTSTART:20260213T070000Z
DTEND:20260213T084000Z
SUMMARY:Экологический мониторинг объектов окружающей среды
LOCATION:48 уч.к 504
END:VEVENT
BEGIN:VEVENT
UID:uq9m@192.168.245.71:3006
SEQUENCE:0
DTSTAMP:20260422T205233Z
DTSTART:20260213T090000Z
DTEND:20260213T104000Z
SUMMARY:Элективная  физическая культура и спорт
LOCATION:СК Секции
END:VEVENT
BEGIN:VEVENT
UID:pirg@192.168.245.71:3006
SEQUENCE:0
DTSTAMP:20260422T205233Z
DTSTART:20260214T110000Z
DTEND:20260214T124000Z
SUMMARY:Безопасность жизнедеятельности
LOCATION:ГК 106
END:VEVENT
END:VCALENDAR