BEGIN:VCALENDAR
VERSION:2.0
PRODID:-//spbstu.ru//ical//RU
NAME:Расписание группы 4731901/40002
X-WR-CALNAME:Расписание группы 4731901/40002
TIMEZONE-ID:Europe/Moscow
X-WR-TIMEZONE:Europe/Moscow
BEGIN:VEVENT
UID:vutm@192.168.245.71:3006
SEQUENCE:0
DTSTAMP:20260422T032334Z
DTSTART:20260302T070000Z
DTEND:20260302T084000Z
SUMMARY:Биохимия
LOCATION:48 уч.к 313
END:VEVENT
BEGIN:VEVENT
UID:rdmm@192.168.245.71:3006
SEQUENCE:0
DTSTAMP:20260422T032334Z
DTSTART:20260302T070000Z
DTEND:20260302T084000Z
SUMMARY:Техническая микробиология
LOCATION:48 уч.к 307
END:VEVENT
BEGIN:VEVENT
UID:3tup@192.168.245.71:3006
SEQUENCE:0
DTSTAMP:20260422T032334Z
DTSTART:20260302T090000Z
DTEND:20260302T104000Z
SUMMARY:Техническая микробиология
LOCATION:48 уч.к 307
END:VEVENT
BEGIN:VEVENT
UID:m45e@192.168.245.71:3006
SEQUENCE:0
DTSTAMP:20260422T032334Z
DTSTART:20260302T090000Z
DTEND:20260302T104000Z
SUMMARY:Биохимия
LOCATION:48 уч.к 313
END:VEVENT
BEGIN:VEVENT
UID:7636@192.168.245.71:3006
SEQUENCE:0
DTSTAMP:20260422T032334Z
DTSTART:20260302T110000Z
DTEND:20260302T124000Z
SUMMARY:Электротехника
LOCATION:3 к. 215
END:VEVENT
BEGIN:VEVENT
UID:tm1o@192.168.245.71:3006
SEQUENCE:0
DTSTAMP:20260422T032334Z
DTSTART:20260302T130000Z
DTEND:20260302T135000Z
SUMMARY:Электротехника
LOCATION:3 к. 215
END:VEVENT
BEGIN:VEVENT
UID:m2dd@192.168.245.71:3006
SEQUENCE:0
DTSTAMP:20260422T032334Z
DTSTART:20260303T070000Z
DTEND:20260303T084000Z
SUMMARY:Биостатистика
LOCATION:48 уч.к 405
END:VEVENT
BEGIN:VEVENT
UID:ayvb@192.168.245.71:3006
SEQUENCE:0
DTSTAMP:20260422T032334Z
DTSTART:20260303T090000Z
DTEND:20260303T104000Z
SUMMARY:Элективная  физическая культура и спорт
LOCATION:СК Секции
END:VEVENT
BEGIN:VEVENT
UID:g30e@192.168.245.71:3006
SEQUENCE:0
DTSTAMP:20260422T032334Z
DTSTART:20260303T110000Z
DTEND:20260303T124000Z
SUMMARY:Иностранный язык. Профессионально-ориентированный курс
LOCATION:48 уч.к 416
END:VEVENT
BEGIN:VEVENT
UID:ro0w@192.168.245.71:3006
SEQUENCE:0
DTSTAMP:20260422T032334Z
DTSTART:20260303T130000Z
DTEND:20260303T144000Z
SUMMARY:Биохимия
LOCATION:48 уч.к 310
END:VEVENT
BEGIN:VEVENT
UID:d79q@192.168.245.71:3006
SEQUENCE:0
DTSTAMP:20260422T032334Z
DTSTART:20260304T070000Z
DTEND:20260304T084000Z
SUMMARY:Иностранный язык. Профессионально-ориентированный курс
LOCATION:48 уч.к 416
END:VEVENT
BEGIN:VEVENT
UID:6rk4@192.168.245.71:3006
SEQUENCE:0
DTSTAMP:20260422T032334Z
DTSTART:20260304T090000Z
DTEND:20260304T104000Z
SUMMARY:Биохимия
LOCATION:48 уч.к 504
END:VEVENT
BEGIN:VEVENT
UID:3hhr@192.168.245.71:3006
SEQUENCE:0
DTSTAMP:20260422T032334Z
DTSTART:20260305T070000Z
DTEND:20260305T084000Z
SUMMARY:Электротехника
LOCATION:ГЗ ЭиЭ
END:VEVENT
BEGIN:VEVENT
UID:6tx2@192.168.245.71:3006
SEQUENCE:0
DTSTAMP:20260422T032334Z
DTSTART:20260305T070000Z
DTEND:20260305T084000Z
SUMMARY:Электротехника
LOCATION:ГЗ ЭиЭ
END:VEVENT
BEGIN:VEVENT
UID:799y@192.168.245.71:3006
SEQUENCE:0
DTSTAMP:20260422T032334Z
DTSTART:20260305T090000Z
DTEND:20260305T104000Z
SUMMARY:Теплофизические основы технологий биологических объектов
LOCATION:48 уч.к 504
END:VEVENT
BEGIN:VEVENT
UID:vg8w@192.168.245.71:3006
SEQUENCE:0
DTSTAMP:20260422T032334Z
DTSTART:20260305T110000Z
DTEND:20260305T124000Z
SUMMARY:Молекулярная и клеточная  биология
LOCATION:48 уч.к 410
END:VEVENT
BEGIN:VEVENT
UID:466n@192.168.245.71:3006
SEQUENCE:0
DTSTAMP:20260422T032334Z
DTSTART:20260305T130000Z
DTEND:20260305T144000Z
SUMMARY:Основы проектной деятельности
LOCATION:48 уч.к 309
END:VEVENT
BEGIN:VEVENT
UID:mqzm@192.168.245.71:3006
SEQUENCE:0
DTSTAMP:20260422T032334Z
DTSTART:20260306T070000Z
DTEND:20260306T084000Z
SUMMARY:Техническая микробиология
LOCATION:48 уч.к 504
END:VEVENT
BEGIN:VEVENT
UID:8rdg@192.168.245.71:3006
SEQUENCE:0
DTSTAMP:20260422T032334Z
DTSTART:20260306T090000Z
DTEND:20260306T104000Z
SUMMARY:Элективная  физическая культура и спорт
LOCATION:СК Секции
END:VEVENT
BEGIN:VEVENT
UID:kvwm@192.168.245.71:3006
SEQUENCE:0
DTSTAMP:20260422T032334Z
DTSTART:20260306T110000Z
DTEND:20260306T124000Z
SUMMARY:Биостатистика
LOCATION:48 уч.к 318
END:VEVENT
BEGIN:VEVENT
UID:iaui@192.168.245.71:3006
SEQUENCE:0
DTSTAMP:20260422T032334Z
DTSTART:20260306T130000Z
DTEND:20260306T144000Z
SUMMARY:Молекулярная и клеточная  биология
LOCATION:48 уч.к 303
END:VEVENT
END:VCALENDAR