BEGIN:VCALENDAR
VERSION:2.0
PRODID:-//spbstu.ru//ical//RU
NAME:Расписание группы 4731901/40002
X-WR-CALNAME:Расписание группы 4731901/40002
TIMEZONE-ID:Europe/Moscow
X-WR-TIMEZONE:Europe/Moscow
BEGIN:VEVENT
UID:alr6@192.168.245.71:3006
SEQUENCE:0
DTSTAMP:20260421T090803Z
DTSTART:20260427T110000Z
DTEND:20260427T124000Z
SUMMARY:Электротехника
LOCATION:3 к. 215
END:VEVENT
BEGIN:VEVENT
UID:nfye@192.168.245.71:3006
SEQUENCE:0
DTSTAMP:20260421T090803Z
DTSTART:20260427T130000Z
DTEND:20260427T135000Z
SUMMARY:Электротехника
LOCATION:3 к. 215
END:VEVENT
BEGIN:VEVENT
UID:g47g@192.168.245.71:3006
SEQUENCE:0
DTSTAMP:20260421T090803Z
DTSTART:20260428T070000Z
DTEND:20260428T084000Z
SUMMARY:Биостатистика
LOCATION:48 уч.к 405
END:VEVENT
BEGIN:VEVENT
UID:lekj@192.168.245.71:3006
SEQUENCE:0
DTSTAMP:20260421T090803Z
DTSTART:20260428T090000Z
DTEND:20260428T104000Z
SUMMARY:Элективная  физическая культура и спорт
LOCATION:СК Секции
END:VEVENT
BEGIN:VEVENT
UID:rwhf@192.168.245.71:3006
SEQUENCE:0
DTSTAMP:20260421T090803Z
DTSTART:20260428T110000Z
DTEND:20260428T124000Z
SUMMARY:Иностранный язык. Профессионально-ориентированный курс
LOCATION:48 уч.к 416
END:VEVENT
BEGIN:VEVENT
UID:qsx9@192.168.245.71:3006
SEQUENCE:0
DTSTAMP:20260421T090803Z
DTSTART:20260428T130000Z
DTEND:20260428T144000Z
SUMMARY:Биохимия
LOCATION:48 уч.к 310
END:VEVENT
BEGIN:VEVENT
UID:5aq0@192.168.245.71:3006
SEQUENCE:0
DTSTAMP:20260421T090803Z
DTSTART:20260429T070000Z
DTEND:20260429T084000Z
SUMMARY:Иностранный язык. Профессионально-ориентированный курс
LOCATION:48 уч.к 416
END:VEVENT
BEGIN:VEVENT
UID:6njx@192.168.245.71:3006
SEQUENCE:0
DTSTAMP:20260421T090803Z
DTSTART:20260429T090000Z
DTEND:20260429T104000Z
SUMMARY:Биохимия
LOCATION:48 уч.к 504
END:VEVENT
BEGIN:VEVENT
UID:fmxl@192.168.245.71:3006
SEQUENCE:0
DTSTAMP:20260421T090803Z
DTSTART:20260429T110000Z
DTEND:20260429T124000Z
SUMMARY:Молекулярная и клеточная  биология
LOCATION:Не опр. Нет
END:VEVENT
BEGIN:VEVENT
UID:1uie@192.168.245.71:3006
SEQUENCE:0
DTSTAMP:20260421T090803Z
DTSTART:20260429T130000Z
DTEND:20260429T144000Z
SUMMARY:Молекулярная и клеточная  биология
LOCATION:Не опр. Нет
END:VEVENT
BEGIN:VEVENT
UID:t07z@192.168.245.71:3006
SEQUENCE:0
DTSTAMP:20260421T090803Z
DTSTART:20260430T070000Z
DTEND:20260430T084000Z
SUMMARY:Электротехника
LOCATION:ГЗ ЭиЭ
END:VEVENT
BEGIN:VEVENT
UID:11lz@192.168.245.71:3006
SEQUENCE:0
DTSTAMP:20260421T090803Z
DTSTART:20260430T070000Z
DTEND:20260430T084000Z
SUMMARY:Электротехника
LOCATION:ГЗ ЭиЭ
END:VEVENT
BEGIN:VEVENT
UID:9odp@192.168.245.71:3006
SEQUENCE:0
DTSTAMP:20260421T090803Z
DTSTART:20260430T090000Z
DTEND:20260430T104000Z
SUMMARY:Биохимия
LOCATION:48 уч.к 504
END:VEVENT
BEGIN:VEVENT
UID:roqj@192.168.245.71:3006
SEQUENCE:0
DTSTAMP:20260421T090803Z
DTSTART:20260430T110000Z
DTEND:20260430T124000Z
SUMMARY:Молекулярная и клеточная  биология
LOCATION:48 уч.к 410
END:VEVENT
END:VCALENDAR