BEGIN:VCALENDAR
VERSION:2.0
PRODID:-//spbstu.ru//ical//RU
NAME:Расписание группы 4731901/40002
X-WR-CALNAME:Расписание группы 4731901/40002
TIMEZONE-ID:Europe/Moscow
X-WR-TIMEZONE:Europe/Moscow
BEGIN:VEVENT
UID:wc7c@192.168.245.71:3006
SEQUENCE:0
DTSTAMP:20260421T121204Z
DTSTART:20260406T070000Z
DTEND:20260406T084000Z
SUMMARY:Техническая микробиология
LOCATION:48 уч.к 307
END:VEVENT
BEGIN:VEVENT
UID:to3f@192.168.245.71:3006
SEQUENCE:0
DTSTAMP:20260421T121204Z
DTSTART:20260406T070000Z
DTEND:20260406T084000Z
SUMMARY:Биохимия
LOCATION:48 уч.к 313
END:VEVENT
BEGIN:VEVENT
UID:t005@192.168.245.71:3006
SEQUENCE:0
DTSTAMP:20260421T121204Z
DTSTART:20260406T090000Z
DTEND:20260406T104000Z
SUMMARY:Биохимия
LOCATION:48 уч.к 313
END:VEVENT
BEGIN:VEVENT
UID:6dyr@192.168.245.71:3006
SEQUENCE:0
DTSTAMP:20260421T121204Z
DTSTART:20260406T090000Z
DTEND:20260406T104000Z
SUMMARY:Техническая микробиология
LOCATION:48 уч.к 307
END:VEVENT
BEGIN:VEVENT
UID:dzc9@192.168.245.71:3006
SEQUENCE:0
DTSTAMP:20260421T121204Z
DTSTART:20260406T110000Z
DTEND:20260406T124000Z
SUMMARY:Электротехника
LOCATION:3 к. 215
END:VEVENT
BEGIN:VEVENT
UID:o9q1@192.168.245.71:3006
SEQUENCE:0
DTSTAMP:20260421T121204Z
DTSTART:20260406T130000Z
DTEND:20260406T135000Z
SUMMARY:Электротехника
LOCATION:3 к. 215
END:VEVENT
BEGIN:VEVENT
UID:3qfv@192.168.245.71:3006
SEQUENCE:0
DTSTAMP:20260421T121204Z
DTSTART:20260407T070000Z
DTEND:20260407T084000Z
SUMMARY:Безопасность жизнедеятельности
LOCATION:48 уч.к 410
END:VEVENT
BEGIN:VEVENT
UID:mrrl@192.168.245.71:3006
SEQUENCE:0
DTSTAMP:20260421T121204Z
DTSTART:20260407T090000Z
DTEND:20260407T104000Z
SUMMARY:Элективная  физическая культура и спорт
LOCATION:СК Секции
END:VEVENT
BEGIN:VEVENT
UID:43ux@192.168.245.71:3006
SEQUENCE:0
DTSTAMP:20260421T121204Z
DTSTART:20260407T110000Z
DTEND:20260407T124000Z
SUMMARY:Иностранный язык. Профессионально-ориентированный курс
LOCATION:48 уч.к 416
END:VEVENT
BEGIN:VEVENT
UID:nvvg@192.168.245.71:3006
SEQUENCE:0
DTSTAMP:20260421T121204Z
DTSTART:20260407T130000Z
DTEND:20260407T144000Z
SUMMARY:Техническая микробиология
LOCATION:48 уч.к 302
END:VEVENT
BEGIN:VEVENT
UID:umc7@192.168.245.71:3006
SEQUENCE:0
DTSTAMP:20260421T121204Z
DTSTART:20260408T070000Z
DTEND:20260408T084000Z
SUMMARY:Иностранный язык. Профессионально-ориентированный курс
LOCATION:48 уч.к 416
END:VEVENT
BEGIN:VEVENT
UID:dtwc@192.168.245.71:3006
SEQUENCE:0
DTSTAMP:20260421T121204Z
DTSTART:20260408T090000Z
DTEND:20260408T104000Z
SUMMARY:Биохимия
LOCATION:48 уч.к 504
END:VEVENT
BEGIN:VEVENT
UID:6o4x@192.168.245.71:3006
SEQUENCE:0
DTSTAMP:20260421T121204Z
DTSTART:20260408T110000Z
DTEND:20260408T124000Z
SUMMARY:Молекулярная и клеточная  биология
LOCATION:Не опр. Нет
END:VEVENT
BEGIN:VEVENT
UID:v594@192.168.245.71:3006
SEQUENCE:0
DTSTAMP:20260421T121204Z
DTSTART:20260408T130000Z
DTEND:20260408T144000Z
SUMMARY:Молекулярная и клеточная  биология
LOCATION:Не опр. Нет
END:VEVENT
BEGIN:VEVENT
UID:32id@192.168.245.71:3006
SEQUENCE:0
DTSTAMP:20260421T121204Z
DTSTART:20260409T070000Z
DTEND:20260409T084000Z
SUMMARY:Электротехника
LOCATION:ГЗ ЭиЭ
END:VEVENT
BEGIN:VEVENT
UID:b4cp@192.168.245.71:3006
SEQUENCE:0
DTSTAMP:20260421T121204Z
DTSTART:20260409T070000Z
DTEND:20260409T084000Z
SUMMARY:Электротехника
LOCATION:ГЗ ЭиЭ
END:VEVENT
BEGIN:VEVENT
UID:t98d@192.168.245.71:3006
SEQUENCE:0
DTSTAMP:20260421T121204Z
DTSTART:20260409T090000Z
DTEND:20260409T104000Z
SUMMARY:Теплофизические основы технологий биологических объектов
LOCATION:48 уч.к 504
END:VEVENT
BEGIN:VEVENT
UID:yrjb@192.168.245.71:3006
SEQUENCE:0
DTSTAMP:20260421T121204Z
DTSTART:20260409T110000Z
DTEND:20260409T124000Z
SUMMARY:Теплофизические основы технологий биологических объектов
LOCATION:48 уч.к 504
END:VEVENT
BEGIN:VEVENT
UID:5gnl@192.168.245.71:3006
SEQUENCE:0
DTSTAMP:20260421T121204Z
DTSTART:20260410T090000Z
DTEND:20260410T104000Z
SUMMARY:Элективная  физическая культура и спорт
LOCATION:СК Секции
END:VEVENT
BEGIN:VEVENT
UID:w669@192.168.245.71:3006
SEQUENCE:0
DTSTAMP:20260421T121204Z
DTSTART:20260410T110000Z
DTEND:20260410T124000Z
SUMMARY:Экологический мониторинг объектов окружающей среды
LOCATION:48 уч.к 414
END:VEVENT
BEGIN:VEVENT
UID:n1i1@192.168.245.71:3006
SEQUENCE:0
DTSTAMP:20260421T121204Z
DTSTART:20260411T110000Z
DTEND:20260411T124000Z
SUMMARY:Безопасность жизнедеятельности
LOCATION:ГК 106
END:VEVENT
END:VCALENDAR