BEGIN:VCALENDAR
VERSION:2.0
PRODID:-//spbstu.ru//ical//RU
NAME:Расписание группы 4731901/40002
X-WR-CALNAME:Расписание группы 4731901/40002
TIMEZONE-ID:Europe/Moscow
X-WR-TIMEZONE:Europe/Moscow
BEGIN:VEVENT
UID:2v38@192.168.245.71:3006
SEQUENCE:0
DTSTAMP:20260421T102920Z
DTSTART:20260504T070000Z
DTEND:20260504T084000Z
SUMMARY:Экологический мониторинг объектов окружающей среды
LOCATION:48 уч.к 218
END:VEVENT
BEGIN:VEVENT
UID:qmh0@192.168.245.71:3006
SEQUENCE:0
DTSTAMP:20260421T102920Z
DTSTART:20260504T090000Z
DTEND:20260504T104000Z
SUMMARY:Экологический мониторинг объектов окружающей среды
LOCATION:48 уч.к 218
END:VEVENT
BEGIN:VEVENT
UID:s02x@192.168.245.71:3006
SEQUENCE:0
DTSTAMP:20260421T102920Z
DTSTART:20260504T110000Z
DTEND:20260504T124000Z
SUMMARY:Электротехника
LOCATION:3 к. 215
END:VEVENT
BEGIN:VEVENT
UID:j427@192.168.245.71:3006
SEQUENCE:0
DTSTAMP:20260421T102920Z
DTSTART:20260504T130000Z
DTEND:20260504T135000Z
SUMMARY:Электротехника
LOCATION:3 к. 215
END:VEVENT
BEGIN:VEVENT
UID:c2el@192.168.245.71:3006
SEQUENCE:0
DTSTAMP:20260421T102920Z
DTSTART:20260505T090000Z
DTEND:20260505T104000Z
SUMMARY:Элективная  физическая культура и спорт
LOCATION:СК Секции
END:VEVENT
BEGIN:VEVENT
UID:sjg2@192.168.245.71:3006
SEQUENCE:0
DTSTAMP:20260421T102920Z
DTSTART:20260505T110000Z
DTEND:20260505T124000Z
SUMMARY:Иностранный язык. Профессионально-ориентированный курс
LOCATION:48 уч.к 416
END:VEVENT
BEGIN:VEVENT
UID:dx68@192.168.245.71:3006
SEQUENCE:0
DTSTAMP:20260421T102920Z
DTSTART:20260506T070000Z
DTEND:20260506T084000Z
SUMMARY:Иностранный язык. Профессионально-ориентированный курс
LOCATION:48 уч.к 416
END:VEVENT
BEGIN:VEVENT
UID:gcar@192.168.245.71:3006
SEQUENCE:0
DTSTAMP:20260421T102920Z
DTSTART:20260506T090000Z
DTEND:20260506T104000Z
SUMMARY:Биохимия
LOCATION:48 уч.к 504
END:VEVENT
BEGIN:VEVENT
UID:u6u4@192.168.245.71:3006
SEQUENCE:0
DTSTAMP:20260421T102920Z
DTSTART:20260506T110000Z
DTEND:20260506T124000Z
SUMMARY:Молекулярная и клеточная  биология
LOCATION:Не опр. Нет
END:VEVENT
BEGIN:VEVENT
UID:08ni@192.168.245.71:3006
SEQUENCE:0
DTSTAMP:20260421T102920Z
DTSTART:20260506T130000Z
DTEND:20260506T144000Z
SUMMARY:Молекулярная и клеточная  биология
LOCATION:Не опр. Нет
END:VEVENT
BEGIN:VEVENT
UID:2vhk@192.168.245.71:3006
SEQUENCE:0
DTSTAMP:20260421T102920Z
DTSTART:20260507T070000Z
DTEND:20260507T084000Z
SUMMARY:Электротехника
LOCATION:ГЗ ЭиЭ
END:VEVENT
BEGIN:VEVENT
UID:34v5@192.168.245.71:3006
SEQUENCE:0
DTSTAMP:20260421T102920Z
DTSTART:20260507T070000Z
DTEND:20260507T084000Z
SUMMARY:Электротехника
LOCATION:ГЗ ЭиЭ
END:VEVENT
BEGIN:VEVENT
UID:9px5@192.168.245.71:3006
SEQUENCE:0
DTSTAMP:20260421T102920Z
DTSTART:20260508T070000Z
DTEND:20260508T084000Z
SUMMARY:Экологический мониторинг объектов окружающей среды
LOCATION:48 уч.к 504
END:VEVENT
BEGIN:VEVENT
UID:j7gg@192.168.245.71:3006
SEQUENCE:0
DTSTAMP:20260421T102920Z
DTSTART:20260508T090000Z
DTEND:20260508T104000Z
SUMMARY:Элективная  физическая культура и спорт
LOCATION:СК Секции
END:VEVENT
BEGIN:VEVENT
UID:5g1x@192.168.245.71:3006
SEQUENCE:0
DTSTAMP:20260421T102920Z
DTSTART:20260508T110000Z
DTEND:20260508T124000Z
SUMMARY:Экологический мониторинг объектов окружающей среды
LOCATION:48 уч.к 414
END:VEVENT
END:VCALENDAR